Workbook
Name Premenna01: #REF!
Name Premenna02: #REF!
Name Premenna03: #REF!
Name Premenna04: #REF!
Name Premenna05: #REF!
Name Premenna06: #REF!
Name Premenna07: #REF!
Name Premenna08: #REF!
Name Premenna09: #REF!
Name Premenna10: #REF!
Name Premenna11: #REF!
Name Premenna12: #REF!
Name Premenna13: #REF!
Name Premenna14: #REF!
Name Premenna15: #REF!
Name Premenna16: #REF!
Name Premenna17: #REF!
Name Premenna18: #REF!
Name Premenna19: #REF!
Name Premenna20: #REF!
Name Premenna21: #REF!
Name vMaxKandidat: 'Zoznamy a súčty'!$J$2
Name vMaxMesto: 'Zoznamy a súčty'!$D$2
Name vSumaHlasov: 'Zoznamy a súčty'!$L$2

Sheet PREŠOV
A1: Číslo riadku | B1: Mesto | C1: MČ | D1: Orgán | E1: Obvod | F1: Krúžkov | G1: P.č. | H1: Celé meno | I1: Titul pred | J1: Titul za | K1: Vek | L1: Meno kandidáta na lístku | M1: Priezvisko kandidáta | N1: Uveďte počet platných hlasov | O1: Pre ľahšiu navigáciu môžete použiť šípky filtra.
A2: =B2&D2&G2 -> Banská BystricaPrimátor1 | B2: Banská Bystrica | D2: Primátor | E2: 0 | F2: 1 | G2: 1 | H2: Igor Kašper | I2: Ing. | K2: 38 | L2: =IF(I2="","",I2&" ")&H2&IF(J2="",""," "&J2)&" ("&K2&" r.)" -> Ing. Igor Kašper (38 r.) | M2: =MID(H2,FIND(" ",H2)+1,LEN(H2)-FIND(" ",H2)) -> Kašper
A3: =B3&D3&G3 -> Banská BystricaPrimátor2 | B3: Banská Bystrica | D3: Primátor | E3: 0 | F3: 1 | G3: 2 | H3: Ján Nosko | I3: MUDr. | K3: 57 | L3: =IF(I3="","",I3&" ")&H3&IF(J3="",""," "&J3)&" ("&K3&" r.)" -> MUDr. Ján Nosko (57 r.) | M3: =MID(H3,FIND(" ",H3)+1,LEN(H3)-FIND(" ",H3)) -> Nosko
A4: =B4&D4&G4 -> Banská BystricaPrimátor3 | B4: Banská Bystrica | D4: Primátor | E4: 0 | F4: 1 | G4: 3 | H4: Peter Peuker | K4: 65 | L4: =IF(I4="","",I4&" ")&H4&IF(J4="",""," "&J4)&" ("&K4&" r.)" -> Peter Peuker (65 r.) | M4: =MID(H4,FIND(" ",H4)+1,LEN(H4)-FIND(" ",H4)) -> Peuker
A5: =B5&D5&G5 -> Banská BystricaPrimátor4 | B5: Banská Bystrica | D5: Primátor | E5: 0 | F5: 1 | G5: 4 | H5: Jozef Sásik | I5: Ing. | K5: 60 | L5: =IF(I5="","",I5&" ")&H5&IF(J5="",""," "&J5)&" ("&K5&" r.)" -> Ing. Jozef Sásik (60 r.) | M5: =MID(H5,FIND(" ",H5)+1,LEN(H5)-FIND(" ",H5)) -> Sásik
A6: =B6&D6&G6 -> Banská BystricaPoslanec1 | B6: Banská Bystrica | D6: Poslanec | E6: 1 | F6: 6 | G6: 1 | H6: Andrea Bačová | I6: Mgr. | K6: 52 | L6: =IF(I6="","",I6&" ")&H6&IF(J6="",""," "&J6)&" ("&K6&" r.)" -> Mgr. Andrea Bačová (52 r.) | M6: =MID(H6,FIND(" ",H6)+1,LEN(H6)-FIND(" ",H6)) -> Bačová
A7: =B7&D7&G7 -> Banská BystricaPoslanec2 | B7: Banská Bystrica | D7: Poslanec | E7: 1 | F7: 6 | G7: 2 | H7: Patrícia Cenkovová | I7: Mgr. | K7: 44 | L7: =IF(I7="","",I7&" ")&H7&IF(J7="",""," "&J7)&" ("&K7&" r.)" -> Mgr. Patrícia Cenkovová (44 r.) | M7: =MID(H7,FIND(" ",H7)+1,LEN(H7)-FIND(" ",H7)) -> Cenkovová
A8: =B8&D8&G8 -> Banská BystricaPoslanec3 | B8: Banská Bystrica | D8: Poslanec | E8: 1 | F8: 6 | G8: 3 | H8: Ladislav Hölc | K8: 53 | L8: =IF(I8="","",I8&" ")&H8&IF(J8="",""," "&J8)&" ("&K8&" r.)" -> Ladislav Hölc (53 r.) | M8: =MID(H8,FIND(" ",H8)+1,LEN(H8)-FIND(" ",H8)) -> Hölc
A9: =B9&D9&G9 -> Banská BystricaPoslanec4 | B9: Banská Bystrica | D9: Poslanec | E9: 1 | F9: 6 | G9: 4 | H9: Ján Jambrich | K9: 60 | L9: =IF(I9="","",I9&" ")&H9&IF(J9="",""," "&J9)&" ("&K9&" r.)" -> Ján Jambrich (60 r.) | M9: =MID(H9,FIND(" ",H9)+1,LEN(H9)-FIND(" ",H9)) -> Jambrich
A10: =B10&D10&G10 -> Banská BystricaPoslanec5 | B10: Banská Bystrica | D10: Poslanec | E10: 1 | F10: 6 | G10: 5 | H10: David Kapusta | I10: Ing. Mgr. | K10: 29 | L10: =IF(I10="","",I10&" ")&H10&IF(J10="",""," "&J10)&" ("&K10&" r.)" -> Ing. Mgr. David Kapusta (29 r.) | M10: =MID(H10,FIND(" ",H10)+1,LEN(H10)-FIND(" ",H10)) -> Kapusta
A11: =B11&D11&G11 -> Banská BystricaPoslanec6 | B11: Banská Bystrica | D11: Poslanec | E11: 1 | F11: 6 | G11: 6 | H11: Pavol Katreniak | I11: Mgr. Ing. | K11: 60 | L11: =IF(I11="","",I11&" ")&H11&IF(J11="",""," "&J11)&" ("&K11&" r.)" -> Mgr. Ing. Pavol Katreniak (60 r.) | M11: =MID(H11,FIND(" ",H11)+1,LEN(H11)-FIND(" ",H11)) -> Katreniak
A12: =B12&D12&G12 -> Banská BystricaPoslanec7 | B12: Banská Bystrica | D12: Poslanec | E12: 1 | F12: 6 | G12: 7 | H12: Miriam Lapuníková | I12: Ing. | J12: MBA | K12: 38 | L12: =IF(I12="","",I12&" ")&H12&IF(J12="",""," "&J12)&" ("&K12&" r.)" -> Ing. Miriam Lapuníková MBA (38 r.) | M12: =MID(H12,FIND(" ",H12)+1,LEN(H12)-FIND(" ",H12)) -> Lapuníková
A13: =B13&D13&G13 -> Banská BystricaPoslanec8 | B13: Banská Bystrica | D13: Poslanec | E13: 1 | F13: 6 | G13: 8 | H13: Andrea Maková | I13: Bc. | K13: 23 | L13: =IF(I13="","",I13&" ")&H13&IF(J13="",""," "&J13)&" ("&K13&" r.)" -> Bc. Andrea Maková (23 r.) | M13: =MID(H13,FIND(" ",H13)+1,LEN(H13)-FIND(" ",H13)) -> Maková
A14: =B14&D14&G14 -> Banská BystricaPoslanec9 | B14: Banská Bystrica | D14: Poslanec | E14: 1 | F14: 6 | G14: 9 | H14: Stanislav Mičev | I14: PhDr. | J14: PhD. | K14: 60 | L14: =IF(I14="","",I14&" ")&H14&IF(J14="",""," "&J14)&" ("&K14&" r.)" -> PhDr. Stanislav Mičev PhD. (60 r.) | M14: =MID(H14,FIND(" ",H14)+1,LEN(H14)-FIND(" ",H14)) -> Mičev
A15: =B15&D15&G15 -> Banská BystricaPoslanec10 | B15: Banská Bystrica | D15: Poslanec | E15: 1 | F15: 6 | G15: 10 | H15: Ludvik Nábělek | I15: MUDr. | J15: PhD. | K15: 64 | L15: =IF(I15="","",I15&" ")&H15&IF(J15="",""," "&J15)&" ("&K15&" r.)" -> MUDr. Ludvik Nábělek PhD. (64 r.) | M15: =MID(H15,FIND(" ",H15)+1,LEN(H15)-FIND(" ",H15)) -> Nábělek
A16: =B16&D16&G16 -> Banská BystricaPoslanec11 | B16: Banská Bystrica | D16: Poslanec | E16: 1 | F16: 6 | G16: 11 | H16: Radovan Ocharovich | I16: Mgr. | K16: 40 | L16: =IF(I16="","",I16&" ")&H16&IF(J16="",""," "&J16)&" ("&K16&" r.)" -> Mgr. Radovan Ocharovich (40 r.) | M16: =MID(H16,FIND(" ",H16)+1,LEN(H16)-FIND(" ",H16)) -> Ocharovich
A17: =B17&D17&G17 -> Banská BystricaPoslanec12 | B17: Banská Bystrica | D17: Poslanec | E17: 1 | F17: 6 | G17: 12 | H17: Matúš Oľha | I17: doc. Mgr. art. | J17: PhD. | K17: 59 | L17: =IF(I17="","",I17&" ")&H17&IF(J17="",""," "&J17)&" ("&K17&" r.)" -> doc. Mgr. art. Matúš Oľha PhD. (59 r.) | M17: =MID(H17,FIND(" ",H17)+1,LEN(H17)-FIND(" ",H17)) -> Oľha
A18: =B18&D18&G18 -> Banská BystricaPoslanec13 | B18: Banská Bystrica | D18: Poslanec | E18: 1 | F18: 6 | G18: 13 | H18: Marián Pataj | I18: JUDr. | K18: 44 | L18: =IF(I18="","",I18&" ")&H18&IF(J18="",""," "&J18)&" ("&K18&" r.)" -> JUDr. Marián Pataj (44 r.) | M18: =MID(H18,FIND(" ",H18)+1,LEN(H18)-FIND(" ",H18)) -> Pataj
A19: =B19&D19&G19 -> Banská BystricaPoslanec14 | B19: Banská Bystrica | D19: Poslanec | E19: 1 | F19: 6 | G19: 14 | H19: Róbert Ragan | K19: 55 | L19: =IF(I19="","",I19&" ")&H19&IF(J19="",""," "&J19)&" ("&K19&" r.)" -> Róbert Ragan (55 r.) | M19: =MID(H19,FIND(" ",H19)+1,LEN(H19)-FIND(" ",H19)) -> Ragan
A20: =B20&D20&G20 -> Banská BystricaPoslanec15 | B20: Banská Bystrica | D20: Poslanec | E20: 1 | F20: 6 | G20: 15 | H20: Ivan Rybárik | I20: Ing. | K20: 75 | L20: =IF(I20="","",I20&" ")&H20&IF(J20="",""," "&J20)&" ("&K20&" r.)" -> Ing. Ivan Rybárik (75 r.) | M20: =MID(H20,FIND(" ",H20)+1,LEN(H20)-FIND(" ",H20)) -> Rybárik
A21: =B21&D21&G21 -> Banská BystricaPoslanec16 | B21: Banská Bystrica | D21: Poslanec | E21: 1 | F21: 6 | G21: 16 | H21: Radovan Sloboda | I21: Ing. | K21: 52 | L21: =IF(I21="","",I21&" ")&H21&IF(J21="",""," "&J21)&" ("&K21&" r.)" -> Ing. Radovan Sloboda (52 r.) | M21: =MID(H21,FIND(" ",H21)+1,LEN(H21)-FIND(" ",H21)) -> Sloboda
A22: =B22&D22&G22 -> Banská BystricaPoslanec17 | B22: Banská Bystrica | D22: Poslanec | E22: 1 | F22: 6 | G22: 17 | H22: Marek Šabo | I22: Mgr. | K22: 35 | L22: =IF(I22="","",I22&" ")&H22&IF(J22="",""," "&J22)&" ("&K22&" r.)" -> Mgr. Marek Šabo (35 r.) | M22: =MID(H22,FIND(" ",H22)+1,LEN(H22)-FIND(" ",H22)) -> Šabo
A23: =B23&D23&G23 -> Banská BystricaPoslanec18 | B23: Banská Bystrica | D23: Poslanec | E23: 1 | F23: 6 | G23: 18 | H23: Milan Ševčík | K23: 52 | L23: =IF(I23="","",I23&" ")&H23&IF(J23="",""," "&J23)&" ("&K23&" r.)" -> Milan Ševčík (52 r.) | M23: =MID(H23,FIND(" ",H23)+1,LEN(H23)-FIND(" ",H23)) -> Ševčík
A24: =B24&D24&G24 -> Banská BystricaPoslanec19 | B24: Banská Bystrica | D24: Poslanec | E24: 1 | F24: 6 | G24: 19 | H24: Miroslav Štelcl | K24: 37 | L24: =IF(I24="","",I24&" ")&H24&IF(J24="",""," "&J24)&" ("&K24&" r.)" -> Miroslav Štelcl (37 r.) | M24: =MID(H24,FIND(" ",H24)+1,LEN(H24)-FIND(" ",H24)) -> Štelcl
A25: =B25&D25&G25 -> Banská BystricaPoslanec20 | B25: Banská Bystrica | D25: Poslanec | E25: 1 | F25: 6 | G25: 20 | H25: Richard Tokušev | K25: 48 | L25: =IF(I25="","",I25&" ")&H25&IF(J25="",""," "&J25)&" ("&K25&" r.)" -> Richard Tokušev (48 r.) | M25: =MID(H25,FIND(" ",H25)+1,LEN(H25)-FIND(" ",H25)) -> Tokušev
A26: =B26&D26&G26 -> Banská BystricaPoslanec21 | B26: Banská Bystrica | D26: Poslanec | E26: 1 | F26: 6 | G26: 21 | H26: Jana Toličová | I26: Mgr. | K26: 52 | L26: =IF(I26="","",I26&" ")&H26&IF(J26="",""," "&J26)&" ("&K26&" r.)" -> Mgr. Jana Toličová (52 r.) | M26: =MID(H26,FIND(" ",H26)+1,LEN(H26)-FIND(" ",H26)) -> Toličová
A27: =B27&D27&G27 -> Banská BystricaPoslanec22 | B27: Banská Bystrica | D27: Poslanec | E27: 1 | F27: 6 | G27: 22 | H27: Marek Vyhnička | K27: 42 | L27: =IF(I27="","",I27&" ")&H27&IF(J27="",""," "&J27)&" ("&K27&" r.)" -> Marek Vyhnička (42 r.) | M27: =MID(H27,FIND(" ",H27)+1,LEN(H27)-FIND(" ",H27)) -> Vyhnička
A28: =B28&D28&G28 -> Banská BystricaPoslanec23 | B28: Banská Bystrica | D28: Poslanec | E28: 1 | F28: 6 | G28: 23 | H28: Marek Zeman | I28: Ing. | K28: 32 | L28: =IF(I28="","",I28&" ")&H28&IF(J28="",""," "&J28)&" ("&K28&" r.)" -> Ing. Marek Zeman (32 r.) | M28: =MID(H28,FIND(" ",H28)+1,LEN(H28)-FIND(" ",H28)) -> Zeman
A29: =B29&D29&G29 -> Banská BystricaPoslanec1 | B29: Banská Bystrica | D29: Poslanec | E29: 2 | F29: 2 | G29: 1 | H29: Alexander Daško | I29: Mgr. | K29: 49 | L29: =IF(I29="","",I29&" ")&H29&IF(J29="",""," "&J29)&" ("&K29&" r.)" -> Mgr. Alexander Daško (49 r.) | M29: =MID(H29,FIND(" ",H29)+1,LEN(H29)-FIND(" ",H29)) -> Daško
A30: =B30&D30&G30 -> Banská BystricaPoslanec2 | B30: Banská Bystrica | D30: Poslanec | E30: 2 | F30: 2 | G30: 2 | H30: Oľga Kazanská | I30: Mgr. | K30: 66 | L30: =IF(I30="","",I30&" ")&H30&IF(J30="",""," "&J30)&" ("&K30&" r.)" -> Mgr. Oľga Kazanská (66 r.) | M30: =MID(H30,FIND(" ",H30)+1,LEN(H30)-FIND(" ",H30)) -> Kazanská
A31: =B31&D31&G31 -> Banská BystricaPoslanec3 | B31: Banská Bystrica | D31: Poslanec | E31: 2 | F31: 2 | G31: 3 | H31: Jaroslav Kuracina | K31: 47 | L31: =IF(I31="","",I31&" ")&H31&IF(J31="",""," "&J31)&" ("&K31&" r.)" -> Jaroslav Kuracina (47 r.) | M31: =MID(H31,FIND(" ",H31)+1,LEN(H31)-FIND(" ",H31)) -> Kuracina
A32: =B32&D32&G32 -> Banská BystricaPoslanec4 | B32: Banská Bystrica | D32: Poslanec | E32: 2 | F32: 2 | G32: 4 | H32: Marcel Mojžiš | I32: Ing. Bc. | K32: 40 | L32: =IF(I32="","",I32&" ")&H32&IF(J32="",""," "&J32)&" ("&K32&" r.)" -> Ing. Bc. Marcel Mojžiš (40 r.) | M32: =MID(H32,FIND(" ",H32)+1,LEN(H32)-FIND(" ",H32)) -> Mojžiš
A33: =B33&D33&G33 -> Banská BystricaPoslanec5 | B33: Banská Bystrica | D33: Poslanec | E33: 2 | F33: 2 | G33: 5 | H33: Marcel Pecník | I33: PhDr. | K33: 35 | L33: =IF(I33="","",I33&" ")&H33&IF(J33="",""," "&J33)&" ("&K33&" r.)" -> PhDr. Marcel Pecník (35 r.) | M33: =MID(H33,FIND(" ",H33)+1,LEN(H33)-FIND(" ",H33)) -> Pecník
A34: =B34&D34&G34 -> Banská BystricaPoslanec6 | B34: Banská Bystrica | D34: Poslanec | E34: 2 | F34: 2 | G34: 6 | H34: Ivan Uhrík | I34: Ing. Bc. | J34: PhD. | K34: 53 | L34: =IF(I34="","",I34&" ")&H34&IF(J34="",""," "&J34)&" ("&K34&" r.)" -> Ing. Bc. Ivan Uhrík PhD. (53 r.) | M34: =MID(H34,FIND(" ",H34)+1,LEN(H34)-FIND(" ",H34)) -> Uhrík
A35: =B35&D35&G35 -> Banská BystricaPoslanec7 | B35: Banská Bystrica | D35: Poslanec | E35: 2 | F35: 2 | G35: 7 | H35: Martin Úradníček | I35: Ing. | K35: 56 | L35: =IF(I35="","",I35&" ")&H35&IF(J35="",""," "&J35)&" ("&K35&" r.)" -> Ing. Martin Úradníček (56 r.) | M35: =MID(H35,FIND(" ",H35)+1,LEN(H35)-FIND(" ",H35)) -> Úradníček
A36: =B36&D36&G36 -> Banská BystricaPoslanec1 | B36: Banská Bystrica | D36: Poslanec | E36: 3 | F36: 9 | G36: 1 | H36: Pavol Bielik | K36: 64 | L36: =IF(I36="","",I36&" ")&H36&IF(J36="",""," "&J36)&" ("&K36&" r.)" -> Pavol Bielik (64 r.) | M36: =MID(H36,FIND(" ",H36)+1,LEN(H36)-FIND(" ",H36)) -> Bielik
A37: =B37&D37&G37 -> Banská BystricaPoslanec2 | B37: Banská Bystrica | D37: Poslanec | E37: 3 | F37: 9 | G37: 2 | H37: Jana Brázdilová | I37: Ing. Mgr. | K37: 65 | L37: =IF(I37="","",I37&" ")&H37&IF(J37="",""," "&J37)&" ("&K37&" r.)" -> Ing. Mgr. Jana Brázdilová (65 r.) | M37: =MID(H37,FIND(" ",H37)+1,LEN(H37)-FIND(" ",H37)) -> Brázdilová
A38: =B38&D38&G38 -> Banská BystricaPoslanec3 | B38: Banská Bystrica | D38: Poslanec | E38: 3 | F38: 9 | G38: 3 | H38: Matej Bučko | K38: 31 | L38: =IF(I38="","",I38&" ")&H38&IF(J38="",""," "&J38)&" ("&K38&" r.)" -> Matej Bučko (31 r.) | M38: =MID(H38,FIND(" ",H38)+1,LEN(H38)-FIND(" ",H38)) -> Bučko
A39: =B39&D39&G39 -> Banská BystricaPoslanec4 | B39: Banská Bystrica | D39: Poslanec | E39: 3 | F39: 9 | G39: 4 | H39: Maroš Čupka | I39: Dis. art. | K39: 22 | L39: =IF(I39="","",I39&" ")&H39&IF(J39="",""," "&J39)&" ("&K39&" r.)" -> Dis. art. Maroš Čupka (22 r.) | M39: =MID(H39,FIND(" ",H39)+1,LEN(H39)-FIND(" ",H39)) -> Čupka
A40: =B40&D40&G40 -> Banská BystricaPoslanec5 | B40: Banská Bystrica | D40: Poslanec | E40: 3 | F40: 9 | G40: 5 | H40: Ján Dilík | K40: 71 | L40: =IF(I40="","",I40&" ")&H40&IF(J40="",""," "&J40)&" ("&K40&" r.)" -> Ján Dilík (71 r.) | M40: =MID(H40,FIND(" ",H40)+1,LEN(H40)-FIND(" ",H40)) -> Dilík
...

Sheet 3 - Iné mestá a obce
A1: Mesto / Obec | B1: Orgán | C1: Meno kandidáta na lístku | D1: Počet hlasov | E1: Vyberte miesto zo zoznamu, vyberte orgán samosprávy, a uveďte meno a počet hlasov
A2: Abranovce | B2: Starosta | C2: Stanislav Volanský | D2: 1
B3: Starosta | C3: František Štofko | D3: 1
A4: Bajerovce | B4: Starosta | C4: Michal Sekerák | D4: 1
A5: Bystré | B5: Starosta | C5: Ľubomír Hreha | D5: 1
A6: Bzenov | B6: Starosta | C6: Štefan Rafajlovič | D6: 1
A7: Červenica pri Sabinove | B7: Starosta | C7: Pavol Spodník | D7: 2
A8: Čierne nad Topľou | B8: Starosta | C8: Vladislav Dvorjak | D8: 1
A9: Demjata | B9: Starosta | C9: Mária Poníková | D9: 1
A10: Čeľovce | B10: Starosta | C10: Stanislav Kožlej | D10: 1
A11: Drienica | B11: Starosta | C11: Vladimír Olejár | D11: 1
A12: Drienov | B12: Starosta | C12: Peter Tomko | D12: 1
A13: Drienovská Nová Ves | B13: Starosta | C13: Ján Brozman | D13: 2
A14: Dulova Ves | B14: Starosta | C14: Peter Semeš | D14: 3
A15: Fintice | B15: Starosta | C15: Terézia Gmitrová | D15: 2
... A19: Gregorovce | B19: Starosta | C19: Slavomíra Daráková | D19: 1
C20: Marek Golodžej | D20: 1
A21: Haniska | B21: Starosta | C21: Ladislav Šimkovič | D21: 1
A22: Hanušovce nad Topľou | B22: Primátor | C22: Štefan Straka | D22: 2
A23: Hendrichovce | B23: Starosta | C23: Martin Martaus | D23: 1
A24: Hermanovce | B24: Starosta | C24: Rudolf Šeliga | D24: 1
C25: Lukáš Grejták | D25: 1
A26: Hermanovce nad Topľou | B26: Starosta | C26: Andrea Kačkošová | D26: 1
A27: Hrabkov | B27: Starosta | C27: Jaroslav Hovančák | D27: 4
A28: Hubošovce | B28: Starosta | C28: Andrea Kazimírová | D28: 2
A29: Chmeľov | B29: Starosta | C29: Marek Lukáč | D29: 1
A30: Chmeľovec | B30: Starosta | C30: Ján Jakab | D30: 1
A31: Chmiňany | B31: Starosta | C31: Cyril Miškuf | D31: 1
A32: Chminianska Nová Ves | B32: Starosta | C32: Peter Konečný | D32: 1
A33: Jarovnice | B33: Starosta | C33: Peter Kaleja | D33: 1
C34: Kvetoslava Korineková | D34: 1
A35: Kamenica | B35: Starosta | C35: Jozef Ščecina | D35: 1
A36: Kapušany | B36: Starosta | C36: Slávka Guteková | D36: 2
A37: Kendice | B37: Starosta | C37: igor Kočiško | D37: 3
A38: Kokošovce | B38: Starosta | C38: Miroslav Skička | D38: 1
A39: Kračúnovce | B39: Starosta | C39: František Mašlej | D39: 1
A40: Kvačany | B40: Starosta | C40: Pavol Veteráni | D40: 1
A41: Lemešany | B41: Starosta | C41: Štefan Záhradník | D41: 1
A42: Lada | B42: Starosta | C42: Ján Katica | D42: 1
A43: Lipany | B43: Primátor | C43: Vladimír Jánošík | D43: 2
...

Sheet  Zoznam miest a obcí
A1: Kód kraja | B1: Názov kraja | C1: Kód územného obvodu | D1: Názov územného obvod | E1: Kód okresu | F1: Názov okresu | G1: Kód obce | H1: Názov obce | I1: Počet volených poslancov | J1: Typ volieb | K1: Počet výskytov obce | L1: Názov do zápisnice
A2: 1 | B2: Bratislavský kraj | C2: 100 | D2: Bratislava mesto | E2: 100 | F2: Bratislava | G2: 582000 | H2: Bratislava | I2: 45 | J2: Starosta a zastupiteľstvo | K2: =COUNTIF(H:H,H2) -> 1 | L2: =IF(K2>1,H2&" (okres "&F2&")",H2) -> Bratislava
A3: 1 | B3: Bratislavský kraj | C3: 101 | D3: Bratislava | E3: 101 | F3: Bratislava I | G3: 528595 | H3: Bratislava - Staré Mesto | I3: 25 | J3: Starosta a zastupiteľstvo | K3: =COUNTIF(H:H,H3) -> 1 | L3: =IF(K3>1,H3&" (okres "&F3&")",H3) -> Bratislava - Staré Mesto
A4: 1 | B4: Bratislavský kraj | C4: 101 | D4: Bratislava | E4: 102 | F4: Bratislava II | G4: 529311 | H4: Bratislava - Podunajské Biskupice | I4: 15 | J4: Starosta a zastupiteľstvo | K4: =COUNTIF(H:H,H4) -> 1 | L4: =IF(K4>1,H4&" (okres "&F4&")",H4) -> Bratislava - Podunajské Biskupice
A5: 1 | B5: Bratislavský kraj | C5: 101 | D5: Bratislava | E5: 102 | F5: Bratislava II | G5: 529320 | H5: Bratislava - Ružinov | I5: 25 | J5: Starosta a zastupiteľstvo | K5: =COUNTIF(H:H,H5) -> 1 | L5: =IF(K5>1,H5&" (okres "&F5&")",H5) -> Bratislava - Ružinov
A6: 1 | B6: Bratislavský kraj | C6: 101 | D6: Bratislava | E6: 102 | F6: Bratislava II | G6: 529338 | H6: Bratislava - Vrakuňa | I6: 15 | J6: Starosta a zastupiteľstvo | K6: =COUNTIF(H:H,H6) -> 1 | L6: =IF(K6>1,H6&" (okres "&F6&")",H6) -> Bratislava - Vrakuňa
A7: 1 | B7: Bratislavský kraj | C7: 101 | D7: Bratislava | E7: 103 | F7: Bratislava III | G7: 529346 | H7: Bratislava - Nové Mesto | I7: 25 | J7: Starosta a zastupiteľstvo | K7: =COUNTIF(H:H,H7) -> 1 | L7: =IF(K7>1,H7&" (okres "&F7&")",H7) -> Bratislava - Nové Mesto
A8: 1 | B8: Bratislavský kraj | C8: 101 | D8: Bratislava | E8: 103 | F8: Bratislava III | G8: 529354 | H8: Bratislava - Rača | I8: 15 | J8: Starosta a zastupiteľstvo | K8: =COUNTIF(H:H,H8) -> 1 | L8: =IF(K8>1,H8&" (okres "&F8&")",H8) -> Bratislava - Rača
A9: 1 | B9: Bratislavský kraj | C9: 101 | D9: Bratislava | E9: 103 | F9: Bratislava III | G9: 529362 | H9: Bratislava - Vajnory | I9: 9 | J9: Starosta a zastupiteľstvo | K9: =COUNTIF(H:H,H9) -> 1 | L9: =IF(K9>1,H9&" (okres "&F9&")",H9) -> Bratislava - Vajnory
A10: 1 | B10: Bratislavský kraj | C10: 101 | D10: Bratislava | E10: 104 | F10: Bratislava IV | G10: 529401 | H10: Bratislava - Devín | I10: 7 | J10: Starosta a zastupiteľstvo | K10: =COUNTIF(H:H,H10) -> 1 | L10: =IF(K10>1,H10&" (okres "&F10&")",H10) -> Bratislava - Devín
A11: 1 | B11: Bratislavský kraj | C11: 101 | D11: Bratislava | E11: 104 | F11: Bratislava IV | G11: 529371 | H11: Bratislava - Devínska Nová Ves | I11: 12 | J11: Starosta a zastupiteľstvo | K11: =COUNTIF(H:H,H11) -> 1 | L11: =IF(K11>1,H11&" (okres "&F11&")",H11) -> Bratislava - Devínska Nová Ves
A12: 1 | B12: Bratislavský kraj | C12: 101 | D12: Bratislava | E12: 104 | F12: Bratislava IV | G12: 529389 | H12: Bratislava - Dúbravka | I12: 25 | J12: Starosta a zastupiteľstvo | K12: =COUNTIF(H:H,H12) -> 1 | L12: =IF(K12>1,H12&" (okres "&F12&")",H12) -> Bratislava - Dúbravka
A13: 1 | B13: Bratislavský kraj | C13: 101 | D13: Bratislava | E13: 104 | F13: Bratislava IV | G13: 529397 | H13: Bratislava - Karlova Ves | I13: 25 | J13: Starosta a zastupiteľstvo | K13: =COUNTIF(H:H,H13) -> 1 | L13: =IF(K13>1,H13&" (okres "&F13&")",H13) -> Bratislava - Karlova Ves
... A2926: 8 | B2926: Košický kraj | C2926: 806 | D2926: Trebišov | E2926: 811 | F2926: Trebišov | G2926: 544043 | H2926: Zemplínsky Branč | I2926: 5 | J2926: Starosta a zastupiteľstvo | K2926: =COUNTIF(H:H,H2926) -> 1 | L2926: =IF(K2926>1,H2926&" (okres "&F2926&")",H2926) -> Zemplínsky Branč

Sheet Zoznamy a súčty
A1: Mesto | B1: Súčet | D1: Max | F1: P.č. | G1: Kandidát | H1: Súčet | J1: Max | L1: Kontrolky | N1: Premenné
A2: Banská Bystrica | B2: =SUMIF(PREŠOV!B:B,A2,PREŠOV!N:N) -> 0 | D2: {=INDEX(A:A,MATCH(MAX(B:B),B:B,0),1)} -> Prešov | F2: 1 | G2: =VLOOKUP(vMaxMesto&"Primátor"&F2,PREŠOV!A:L,12,0) -> PaedDr. Miroslav Benko MBA (44 r.) | H2: =SUMIFS(PREŠOV!N:N,PREŠOV!D:D,"Primátor",PREŠOV!B:B,vMaxMesto,PREŠOV!L:L,G2) -> 27 | J2: {=INDEX(G:G,MATCH(MAX(H:H),H:H,0),1)} -> JUDr. Pavel Hagyari (61 r.) | L2: =SUM(PREŠOV!N:N) -> 1140 | N2: =Premenna01 -> #REF!
A3: Banská Štiavnica | B3: =SUMIF(PREŠOV!B:B,A3,PREŠOV!N:N) -> 0 | F3: 2 | G3: =VLOOKUP(vMaxMesto&"Primátor"&F3,PREŠOV!A:L,12,0) -> Ing. Richard Drutarovský (47 r.) | H3: =SUMIFS(PREŠOV!N:N,PREŠOV!D:D,"Primátor",PREŠOV!B:B,vMaxMesto,PREŠOV!L:L,G3) -> 31 | N3: =Premenna02 -> #REF!
A4: Bardejov | B4: =SUMIF(PREŠOV!B:B,A4,PREŠOV!N:N) -> 1 | F4: 3 | G4: =VLOOKUP(vMaxMesto&"Primátor"&F4,PREŠOV!A:L,12,0) -> Ing. Igor Dužda (50 r.) | H4: =SUMIFS(PREŠOV!N:N,PREŠOV!D:D,"Primátor",PREŠOV!B:B,vMaxMesto,PREŠOV!L:L,G4) -> 1 | N4: =Premenna03 -> #REF!
A5: Bratislava | B5: =SUMIF(PREŠOV!B:B,A5,PREŠOV!N:N) -> 0 | F5: 4 | G5: =VLOOKUP(vMaxMesto&"Primátor"&F5,PREŠOV!A:L,12,0) -> Stanislav Grega (60 r.) | H5: =SUMIFS(PREŠOV!N:N,PREŠOV!D:D,"Primátor",PREŠOV!B:B,vMaxMesto,PREŠOV!L:L,G5) -> 6 | N5: =Premenna04 -> #REF!
A6: Bratislava-Čunovo | B6: =SUMIF(PREŠOV!B:B,A6,PREŠOV!N:N) -> 0 | F6: 5 | G6: =VLOOKUP(vMaxMesto&"Primátor"&F6,PREŠOV!A:L,12,0) -> JUDr. Pavel Hagyari (61 r.) | H6: =SUMIFS(PREŠOV!N:N,PREŠOV!D:D,"Primátor",PREŠOV!B:B,vMaxMesto,PREŠOV!L:L,G6) -> 62 | N6: =Premenna05 -> #REF!
A7: Bratislava-Devín | B7: =SUMIF(PREŠOV!B:B,A7,PREŠOV!N:N) -> 0 | F7: 6 | G7: =VLOOKUP(vMaxMesto&"Primátor"&F7,PREŠOV!A:L,12,0) -> Ing. František Oľha (48 r.) | H7: =SUMIFS(PREŠOV!N:N,PREŠOV!D:D,"Primátor",PREŠOV!B:B,vMaxMesto,PREŠOV!L:L,G7) -> 30 | N7: =Premenna06 -> #REF!
A8: Bratislava-Devínska Nová Ves | B8: =SUMIF(PREŠOV!B:B,A8,PREŠOV!N:N) -> 0 | F8: 7 | G8: =VLOOKUP(vMaxMesto&"Primátor"&F8,PREŠOV!A:L,12,0) -> Ing. Andrea Turčanová (51 r.) | H8: =SUMIFS(PREŠOV!N:N,PREŠOV!D:D,"Primátor",PREŠOV!B:B,vMaxMesto,PREŠOV!L:L,G8) -> 61 | N8: =Premenna07 -> #REF!
A9: Bratislava-Dúbravka | B9: =SUMIF(PREŠOV!B:B,A9,PREŠOV!N:N) -> 0 | F9: 8 | G9: =VLOOKUP(vMaxMesto&"Primátor"&F9,PREŠOV!A:L,12,0) -> #N/A | H9: =SUMIFS(PREŠOV!N:N,PREŠOV!D:D,"Primátor",PREŠOV!B:B,vMaxMesto,PREŠOV!L:L,G9) -> 0 | N9: =Premenna08 -> #REF!
A10: Bratislava-Jarovce | B10: =SUMIF(PREŠOV!B:B,A10,PREŠOV!N:N) -> 0 | F10: 9 | G10: =VLOOKUP(vMaxMesto&"Primátor"&F10,PREŠOV!A:L,12,0) -> #N/A | H10: =SUMIFS(PREŠOV!N:N,PREŠOV!D:D,"Primátor",PREŠOV!B:B,vMaxMesto,PREŠOV!L:L,G10) -> 0 | N10: =Premenna09 -> #REF!
A11: Bratislava-Karlova Ves | B11: =SUMIF(PREŠOV!B:B,A11,PREŠOV!N:N) -> 0 | F11: 10 | G11: =VLOOKUP(vMaxMesto&"Primátor"&F11,PREŠOV!A:L,12,0) -> #N/A | H11: =SUMIFS(PREŠOV!N:N,PREŠOV!D:D,"Primátor",PREŠOV!B:B,vMaxMesto,PREŠOV!L:L,G11) -> 0 | N11: =Premenna10 -> #REF!
A12: Bratislava-Lamač | B12: =SUMIF(PREŠOV!B:B,A12,PREŠOV!N:N) -> 0 | F12: 11 | G12: =VLOOKUP(vMaxMesto&"Primátor"&F12,PREŠOV!A:L,12,0) -> #N/A | H12: =SUMIFS(PREŠOV!N:N,PREŠOV!D:D,"Primátor",PREŠOV!B:B,vMaxMesto,PREŠOV!L:L,G12) -> 0 | N12: =Premenna11 -> #REF!
A13: Bratislava-Nové Mesto | B13: =SUMIF(PREŠOV!B:B,A13,PREŠOV!N:N) -> 0 | F13: 12 | G13: =VLOOKUP(vMaxMesto&"Primátor"&F13,PREŠOV!A:L,12,0) -> #N/A | H13: =SUMIFS(PREŠOV!N:N,PREŠOV!D:D,"Primátor",PREŠOV!B:B,vMaxMesto,PREŠOV!L:L,G13) -> 0 | N13: =Premenna12 -> #REF!
A14: Bratislava-Petržalka | B14: =SUMIF(PREŠOV!B:B,A14,PREŠOV!N:N) -> 0 | F14: 13 | G14: =VLOOKUP(vMaxMesto&"Primátor"&F14,PREŠOV!A:L,12,0) -> #N/A | H14: =SUMIFS(PREŠOV!N:N,PREŠOV!D:D,"Primátor",PREŠOV!B:B,vMaxMesto,PREŠOV!L:L,G14) -> 0 | N14: =Premenna13 -> #REF!
A15: Bratislava-Podunajské Biskupice | B15: =SUMIF(PREŠOV!B:B,A15,PREŠOV!N:N) -> 0 | F15: 14 | G15: =VLOOKUP(vMaxMesto&"Primátor"&F15,PREŠOV!A:L,12,0) -> #N/A | H15: =SUMIFS(PREŠOV!N:N,PREŠOV!D:D,"Primátor",PREŠOV!B:B,vMaxMesto,PREŠOV!L:L,G15) -> 0 | N15: =Premenna14 -> #REF!
A16: Bratislava-Rača | B16: =SUMIF(PREŠOV!B:B,A16,PREŠOV!N:N) -> 0 | N16: =Premenna15 -> #REF!
A17: Bratislava-Rusovce | B17: =SUMIF(PREŠOV!B:B,A17,PREŠOV!N:N) -> 0 | N17: =Premenna16 -> #REF!
A18: Bratislava-Ružinov | B18: =SUMIF(PREŠOV!B:B,A18,PREŠOV!N:N) -> 0 | N18: =Premenna17 -> #REF!
A19: Bratislava-Staré Mesto | B19: =SUMIF(PREŠOV!B:B,A19,PREŠOV!N:N) -> 0 | N19: =Premenna18 -> #REF!
A20: Bratislava-Vajnory | B20: =SUMIF(PREŠOV!B:B,A20,PREŠOV!N:N) -> 0 | N20: =Premenna19 -> #REF!
A21: Bratislava-Vrakuňa | B21: =SUMIF(PREŠOV!B:B,A21,PREŠOV!N:N) -> 0 | N21: =Premenna20 -> #REF!
A22: Bratislava-Záhorská Bystrica | B22: =SUMIF(PREŠOV!B:B,A22,PREŠOV!N:N) -> 0 | N22: =Premenna21 -> #REF!
A23: Brezno | B23: =SUMIF(PREŠOV!B:B,A23,PREŠOV!N:N) -> 0
A24: Bytča | B24: =SUMIF(PREŠOV!B:B,A24,PREŠOV!N:N) -> 0
A25: Dolný Kubín | B25: =SUMIF(PREŠOV!B:B,A25,PREŠOV!N:N) -> 0
A26: Dubnica nad Váhom | B26: =SUMIF(PREŠOV!B:B,A26,PREŠOV!N:N) -> 0
A27: Fiľakovo | B27: =SUMIF(PREŠOV!B:B,A27,PREŠOV!N:N) -> 0
A28: Gbely | B28: =SUMIF(PREŠOV!B:B,A28,PREŠOV!N:N) -> 0
A29: Hlohovec | B29: =SUMIF(PREŠOV!B:B,A29,PREŠOV!N:N) -> 0
A30: Holíč | B30: =SUMIF(PREŠOV!B:B,A30,PREŠOV!N:N) -> 0
A31: Humenné | B31: =SUMIF(PREŠOV!B:B,A31,PREŠOV!N:N) -> 0
A32: Kežmarok | B32: =SUMIF(PREŠOV!B:B,A32,PREŠOV!N:N) -> 0
A33: Košice | B33: =SUMIF(PREŠOV!B:B,A33,PREŠOV!N:N) -> 0
A34: Košice-Barca | B34: =SUMIF(PREŠOV!B:B,A34,PREŠOV!N:N) -> 0
... A83: Zvolen | B83: =SUMIF(PREŠOV!B:B,A83,PREŠOV!N:N) -> 0
