Workbook
Name Premenna01: #REF!
Name Premenna02: #REF!
Name Premenna03: #REF!
Name Premenna04: #REF!
Name Premenna05: #REF!
Name Premenna06: #REF!
Name Premenna07: #REF!
Name Premenna08: #REF!
Name Premenna09: #REF!
Name Premenna10: #REF!
Name Premenna11: #REF!
Name Premenna12: #REF!
Name Premenna13: #REF!
Name Premenna14: #REF!
Name Premenna15: #REF!
Name Premenna16: #REF!
Name Premenna17: #REF!
Name Premenna18: #REF!
Name Premenna19: #REF!
Name Premenna20: #REF!
Name Premenna21: #REF!
Name vMaxKandidat: 'Zoznamy a súčty'!$J$2
Name vMaxMesto: 'Zoznamy a súčty'!$D$2
Name vSumaHlasov: 'Zoznamy a súčty'!$L$2

Sheet PREŠOV
A1: Číslo riadku | B1: Mesto | C1: MČ | D1: Orgán | E1: Obvod | F1: Krúžkov | G1: P.č. | H1: Celé meno | I1: Titul pred | J1: Titul za | K1: Vek | L1: Meno kandidáta na lístku | M1: Priezvisko kandidáta | N1: Uveďte počet platných hlasov | O1: Pre ľahšiu navigáciu môžete použiť šípky filtra.
A2: =B2&D2&G2 -> Banská BystricaPrimátor1 | B2: Banská Bystrica | D2: Primátor | E2: 0 | F2: 1 | G2: 1 | H2: Igor Kašper | I2: Ing. | K2: 38 | L2: =IF(I2="","",I2&" ")&H2&IF(J2="",""," "&J2)&" ("&K2&" r.)" -> Ing. Igor Kašper (38 r.) | M2: =MID(H2,FIND(" ",H2)+1,LEN(H2)-FIND(" ",H2)) -> Kašper
A3: =B3&D3&G3 -> Banská BystricaPrimátor2 | B3: Banská Bystrica | D3: Primátor | E3: 0 | F3: 1 | G3: 2 | H3: Ján Nosko | I3: MUDr. | K3: 57 | L3: =IF(I3="","",I3&" ")&H3&IF(J3="",""," "&J3)&" ("&K3&" r.)" -> MUDr. Ján Nosko (57 r.) | M3: =MID(H3,FIND(" ",H3)+1,LEN(H3)-FIND(" ",H3)) -> Nosko
A4: =B4&D4&G4 -> Banská BystricaPrimátor3 | B4: Banská Bystrica | D4: Primátor | E4: 0 | F4: 1 | G4: 3 | H4: Peter Peuker | K4: 65 | L4: =IF(I4="","",I4&" ")&H4&IF(J4="",""," "&J4)&" ("&K4&" r.)" -> Peter Peuker (65 r.) | M4: =MID(H4,FIND(" ",H4)+1,LEN(H4)-FIND(" ",H4)) -> Peuker
A5: =B5&D5&G5 -> Banská BystricaPrimátor4 | B5: Banská Bystrica | D5: Primátor | E5: 0 | F5: 1 | G5: 4 | H5: Jozef Sásik | I5: Ing. | K5: 60 | L5: =IF(I5="","",I5&" ")&H5&IF(J5="",""," "&J5)&" ("&K5&" r.)" -> Ing. Jozef Sásik (60 r.) | M5: =MID(H5,FIND(" ",H5)+1,LEN(H5)-FIND(" ",H5)) -> Sásik
A6: =B6&D6&G6 -> Banská BystricaPoslanec1 | B6: Banská Bystrica | D6: Poslanec | E6: 1 | F6: 6 | G6: 1 | H6: Andrea Bačová | I6: Mgr. | K6: 52 | L6: =IF(I6="","",I6&" ")&H6&IF(J6="",""," "&J6)&" ("&K6&" r.)" -> Mgr. Andrea Bačová (52 r.) | M6: =MID(H6,FIND(" ",H6)+1,LEN(H6)-FIND(" ",H6)) -> Bačová
A7: =B7&D7&G7 -> Banská BystricaPoslanec2 | B7: Banská Bystrica | D7: Poslanec | E7: 1 | F7: 6 | G7: 2 | H7: Patrícia Cenkovová | I7: Mgr. | K7: 44 | L7: =IF(I7="","",I7&" ")&H7&IF(J7="",""," "&J7)&" ("&K7&" r.)" -> Mgr. Patrícia Cenkovová (44 r.) | M7: =MID(H7,FIND(" ",H7)+1,LEN(H7)-FIND(" ",H7)) -> Cenkovová
A8: =B8&D8&G8 -> Banská BystricaPoslanec3 | B8: Banská Bystrica | D8: Poslanec | E8: 1 | F8: 6 | G8: 3 | H8: Ladislav Hölc | K8: 53 | L8: =IF(I8="","",I8&" ")&H8&IF(J8="",""," "&J8)&" ("&K8&" r.)" -> Ladislav Hölc (53 r.) | M8: =MID(H8,FIND(" ",H8)+1,LEN(H8)-FIND(" ",H8)) -> Hölc
A9: =B9&D9&G9 -> Banská BystricaPoslanec4 | B9: Banská Bystrica | D9: Poslanec | E9: 1 | F9: 6 | G9: 4 | H9: Ján Jambrich | K9: 60 | L9: =IF(I9="","",I9&" ")&H9&IF(J9="",""," "&J9)&" ("&K9&" r.)" -> Ján Jambrich (60 r.) | M9: =MID(H9,FIND(" ",H9)+1,LEN(H9)-FIND(" ",H9)) -> Jambrich
A10: =B10&D10&G10 -> Banská BystricaPoslanec5 | B10: Banská Bystrica | D10: Poslanec | E10: 1 | F10: 6 | G10: 5 | H10: David Kapusta | I10: Ing. Mgr. | K10: 29 | L10: =IF(I10="","",I10&" ")&H10&IF(J10="",""," "&J10)&" ("&K10&" r.)" -> Ing. Mgr. David Kapusta (29 r.) | M10: =MID(H10,FIND(" ",H10)+1,LEN(H10)-FIND(" ",H10)) -> Kapusta
A11: =B11&D11&G11 -> Banská BystricaPoslanec6 | B11: Banská Bystrica | D11: Poslanec | E11: 1 | F11: 6 | G11: 6 | H11: Pavol Katreniak | I11: Mgr. Ing. | K11: 60 | L11: =IF(I11="","",I11&" ")&H11&IF(J11="",""," "&J11)&" ("&K11&" r.)" -> Mgr. Ing. Pavol Katreniak (60 r.) | M11: =MID(H11,FIND(" ",H11)+1,LEN(H11)-FIND(" ",H11)) -> Katreniak
A12: =B12&D12&G12 -> Banská BystricaPoslanec7 | B12: Banská Bystrica | D12: Poslanec | E12: 1 | F12: 6 | G12: 7 | H12: Miriam Lapuníková | I12: Ing. | J12: MBA | K12: 38 | L12: =IF(I12="","",I12&" ")&H12&IF(J12="",""," "&J12)&" ("&K12&" r.)" -> Ing. Miriam Lapuníková MBA (38 r.) | M12: =MID(H12,FIND(" ",H12)+1,LEN(H12)-FIND(" ",H12)) -> Lapuníková
A13: =B13&D13&G13 -> Banská BystricaPoslanec8 | B13: Banská Bystrica | D13: Poslanec | E13: 1 | F13: 6 | G13: 8 | H13: Andrea Maková | I13: Bc. | K13: 23 | L13: =IF(I13="","",I13&" ")&H13&IF(J13="",""," "&J13)&" ("&K13&" r.)" -> Bc. Andrea Maková (23 r.) | M13: =MID(H13,FIND(" ",H13)+1,LEN(H13)-FIND(" ",H13)) -> Maková
A14: =B14&D14&G14 -> Banská BystricaPoslanec9 | B14: Banská Bystrica | D14: Poslanec | E14: 1 | F14: 6 | G14: 9 | H14: Stanislav Mičev | I14: PhDr. | J14: PhD. | K14: 60 | L14: =IF(I14="","",I14&" ")&H14&IF(J14="",""," "&J14)&" ("&K14&" r.)" -> PhDr. Stanislav Mičev PhD. (60 r.) | M14: =MID(H14,FIND(" ",H14)+1,LEN(H14)-FIND(" ",H14)) -> Mičev
A15: =B15&D15&G15 -> Banská BystricaPoslanec10 | B15: Banská Bystrica | D15: Poslanec | E15: 1 | F15: 6 | G15: 10 | H15: Ludvik Nábělek | I15: MUDr. | J15: PhD. | K15: 64 | L15: =IF(I15="","",I15&" ")&H15&IF(J15="",""," "&J15)&" ("&K15&" r.)" -> MUDr. Ludvik Nábělek PhD. (64 r.) | M15: =MID(H15,FIND(" ",H15)+1,LEN(H15)-FIND(" ",H15)) -> Nábělek
A16: =B16&D16&G16 -> Banská BystricaPoslanec11 | B16: Banská Bystrica | D16: Poslanec | E16: 1 | F16: 6 | G16: 11 | H16: Radovan Ocharovich | I16: Mgr. | K16: 40 | L16: =IF(I16="","",I16&" ")&H16&IF(J16="",""," "&J16)&" ("&K16&" r.)" -> Mgr. Radovan Ocharovich (40 r.) | M16: =MID(H16,FIND(" ",H16)+1,LEN(H16)-FIND(" ",H16)) -> Ocharovich
A17: =B17&D17&G17 -> Banská BystricaPoslanec12 | B17: Banská Bystrica | D17: Poslanec | E17: 1 | F17: 6 | G17: 12 | H17: Matúš Oľha | I17: doc. Mgr. art. | J17: PhD. | K17: 59 | L17: =IF(I17="","",I17&" ")&H17&IF(J17="",""," "&J17)&" ("&K17&" r.)" -> doc. Mgr. art. Matúš Oľha PhD. (59 r.) | M17: =MID(H17,FIND(" ",H17)+1,LEN(H17)-FIND(" ",H17)) -> Oľha
A18: =B18&D18&G18 -> Banská BystricaPoslanec13 | B18: Banská Bystrica | D18: Poslanec | E18: 1 | F18: 6 | G18: 13 | H18: Marián Pataj | I18: JUDr. | K18: 44 | L18: =IF(I18="","",I18&" ")&H18&IF(J18="",""," "&J18)&" ("&K18&" r.)" -> JUDr. Marián Pataj (44 r.) | M18: =MID(H18,FIND(" ",H18)+1,LEN(H18)-FIND(" ",H18)) -> Pataj
A19: =B19&D19&G19 -> Banská BystricaPoslanec14 | B19: Banská Bystrica | D19: Poslanec | E19: 1 | F19: 6 | G19: 14 | H19: Róbert Ragan | K19: 55 | L19: =IF(I19="","",I19&" ")&H19&IF(J19="",""," "&J19)&" ("&K19&" r.)" -> Róbert Ragan (55 r.) | M19: =MID(H19,FIND(" ",H19)+1,LEN(H19)-FIND(" ",H19)) -> Ragan
A20: =B20&D20&G20 -> Banská BystricaPoslanec15 | B20: Banská Bystrica | D20: Poslanec | E20: 1 | F20: 6 | G20: 15 | H20: Ivan Rybárik | I20: Ing. | K20: 75 | L20: =IF(I20="","",I20&" ")&H20&IF(J20="",""," "&J20)&" ("&K20&" r.)" -> Ing. Ivan Rybárik (75 r.) | M20: =MID(H20,FIND(" ",H20)+1,LEN(H20)-FIND(" ",H20)) -> Rybárik
A21: =B21&D21&G21 -> Banská BystricaPoslanec16 | B21: Banská Bystrica | D21: Poslanec | E21: 1 | F21: 6 | G21: 16 | H21: Radovan Sloboda | I21: Ing. | K21: 52 | L21: =IF(I21="","",I21&" ")&H21&IF(J21="",""," "&J21)&" ("&K21&" r.)" -> Ing. Radovan Sloboda (52 r.) | M21: =MID(H21,FIND(" ",H21)+1,LEN(H21)-FIND(" ",H21)) -> Sloboda
A22: =B22&D22&G22 -> Banská BystricaPoslanec17 | B22: Banská Bystrica | D22: Poslanec | E22: 1 | F22: 6 | G22: 17 | H22: Marek Šabo | I22: Mgr. | K22: 35 | L22: =IF(I22="","",I22&" ")&H22&IF(J22="",""," "&J22)&" ("&K22&" r.)" -> Mgr. Marek Šabo (35 r.) | M22: =MID(H22,FIND(" ",H22)+1,LEN(H22)-FIND(" ",H22)) -> Šabo
A23: =B23&D23&G23 -> Banská BystricaPoslanec18 | B23: Banská Bystrica | D23: Poslanec | E23: 1 | F23: 6 | G23: 18 | H23: Milan Ševčík | K23: 52 | L23: =IF(I23="","",I23&" ")&H23&IF(J23="",""," "&J23)&" ("&K23&" r.)" -> Milan Ševčík (52 r.) | M23: =MID(H23,FIND(" ",H23)+1,LEN(H23)-FIND(" ",H23)) -> Ševčík
A24: =B24&D24&G24 -> Banská BystricaPoslanec19 | B24: Banská Bystrica | D24: Poslanec | E24: 1 | F24: 6 | G24: 19 | H24: Miroslav Štelcl | K24: 37 | L24: =IF(I24="","",I24&" ")&H24&IF(J24="",""," "&J24)&" ("&K24&" r.)" -> Miroslav Štelcl (37 r.) | M24: =MID(H24,FIND(" ",H24)+1,LEN(H24)-FIND(" ",H24)) -> Štelcl
A25: =B25&D25&G25 -> Banská BystricaPoslanec20 | B25: Banská Bystrica | D25: Poslanec | E25: 1 | F25: 6 | G25: 20 | H25: Richard Tokušev | K25: 48 | L25: =IF(I25="","",I25&" ")&H25&IF(J25="",""," "&J25)&" ("&K25&" r.)" -> Richard Tokušev (48 r.) | M25: =MID(H25,FIND(" ",H25)+1,LEN(H25)-FIND(" ",H25)) -> Tokušev
A26: =B26&D26&G26 -> Banská BystricaPoslanec21 | B26: Banská Bystrica | D26: Poslanec | E26: 1 | F26: 6 | G26: 21 | H26: Jana Toličová | I26: Mgr. | K26: 52 | L26: =IF(I26="","",I26&" ")&H26&IF(J26="",""," "&J26)&" ("&K26&" r.)" -> Mgr. Jana Toličová (52 r.) | M26: =MID(H26,FIND(" ",H26)+1,LEN(H26)-FIND(" ",H26)) -> Toličová
A27: =B27&D27&G27 -> Banská BystricaPoslanec22 | B27: Banská Bystrica | D27: Poslanec | E27: 1 | F27: 6 | G27: 22 | H27: Marek Vyhnička | K27: 42 | L27: =IF(I27="","",I27&" ")&H27&IF(J27="",""," "&J27)&" ("&K27&" r.)" -> Marek Vyhnička (42 r.) | M27: =MID(H27,FIND(" ",H27)+1,LEN(H27)-FIND(" ",H27)) -> Vyhnička
A28: =B28&D28&G28 -> Banská BystricaPoslanec23 | B28: Banská Bystrica | D28: Poslanec | E28: 1 | F28: 6 | G28: 23 | H28: Marek Zeman | I28: Ing. | K28: 32 | L28: =IF(I28="","",I28&" ")&H28&IF(J28="",""," "&J28)&" ("&K28&" r.)" -> Ing. Marek Zeman (32 r.) | M28: =MID(H28,FIND(" ",H28)+1,LEN(H28)-FIND(" ",H28)) -> Zeman
A29: =B29&D29&G29 -> Banská BystricaPoslanec1 | B29: Banská Bystrica | D29: Poslanec | E29: 2 | F29: 2 | G29: 1 | H29: Alexander Daško | I29: Mgr. | K29: 49 | L29: =IF(I29="","",I29&" ")&H29&IF(J29="",""," "&J29)&" ("&K29&" r.)" -> Mgr. Alexander Daško (49 r.) | M29: =MID(H29,FIND(" ",H29)+1,LEN(H29)-FIND(" ",H29)) -> Daško
A30: =B30&D30&G30 -> Banská BystricaPoslanec2 | B30: Banská Bystrica | D30: Poslanec | E30: 2 | F30: 2 | G30: 2 | H30: Oľga Kazanská | I30: Mgr. | K30: 66 | L30: =IF(I30="","",I30&" ")&H30&IF(J30="",""," "&J30)&" ("&K30&" r.)" -> Mgr. Oľga Kazanská (66 r.) | M30: =MID(H30,FIND(" ",H30)+1,LEN(H30)-FIND(" ",H30)) -> Kazanská
A31: =B31&D31&G31 -> Banská BystricaPoslanec3 | B31: Banská Bystrica | D31: Poslanec | E31: 2 | F31: 2 | G31: 3 | H31: Jaroslav Kuracina | K31: 47 | L31: =IF(I31="","",I31&" ")&H31&IF(J31="",""," "&J31)&" ("&K31&" r.)" -> Jaroslav Kuracina (47 r.) | M31: =MID(H31,FIND(" ",H31)+1,LEN(H31)-FIND(" ",H31)) -> Kuracina
A32: =B32&D32&G32 -> Banská BystricaPoslanec4 | B32: Banská Bystrica | D32: Poslanec | E32: 2 | F32: 2 | G32: 4 | H32: Marcel Mojžiš | I32: Ing. Bc. | K32: 40 | L32: =IF(I32="","",I32&" ")&H32&IF(J32="",""," "&J32)&" ("&K32&" r.)" -> Ing. Bc. Marcel Mojžiš (40 r.) | M32: =MID(H32,FIND(" ",H32)+1,LEN(H32)-FIND(" ",H32)) -> Mojžiš
A33: =B33&D33&G33 -> Banská BystricaPoslanec5 | B33: Banská Bystrica | D33: Poslanec | E33: 2 | F33: 2 | G33: 5 | H33: Marcel Pecník | I33: PhDr. | K33: 35 | L33: =IF(I33="","",I33&" ")&H33&IF(J33="",""," "&J33)&" ("&K33&" r.)" -> PhDr. Marcel Pecník (35 r.) | M33: =MID(H33,FIND(" ",H33)+1,LEN(H33)-FIND(" ",H33)) -> Pecník
A34: =B34&D34&G34 -> Banská BystricaPoslanec6 | B34: Banská Bystrica | D34: Poslanec | E34: 2 | F34: 2 | G34: 6 | H34: Ivan Uhrík | I34: Ing. Bc. | J34: PhD. | K34: 53 | L34: =IF(I34="","",I34&" ")&H34&IF(J34="",""," "&J34)&" ("&K34&" r.)" -> Ing. Bc. Ivan Uhrík PhD. (53 r.) | M34: =MID(H34,FIND(" ",H34)+1,LEN(H34)-FIND(" ",H34)) -> Uhrík
A35: =B35&D35&G35 -> Banská BystricaPoslanec7 | B35: Banská Bystrica | D35: Poslanec | E35: 2 | F35: 2 | G35: 7 | H35: Martin Úradníček | I35: Ing. | K35: 56 | L35: =IF(I35="","",I35&" ")&H35&IF(J35="",""," "&J35)&" ("&K35&" r.)" -> Ing. Martin Úradníček (56 r.) | M35: =MID(H35,FIND(" ",H35)+1,LEN(H35)-FIND(" ",H35)) -> Úradníček
A36: =B36&D36&G36 -> Banská BystricaPoslanec1 | B36: Banská Bystrica | D36: Poslanec | E36: 3 | F36: 9 | G36: 1 | H36: Pavol Bielik | K36: 64 | L36: =IF(I36="","",I36&" ")&H36&IF(J36="",""," "&J36)&" ("&K36&" r.)" -> Pavol Bielik (64 r.) | M36: =MID(H36,FIND(" ",H36)+1,LEN(H36)-FIND(" ",H36)) -> Bielik
A37: =B37&D37&G37 -> Banská BystricaPoslanec2 | B37: Banská Bystrica | D37: Poslanec | E37: 3 | F37: 9 | G37: 2 | H37: Jana Brázdilová | I37: Ing. Mgr. | K37: 65 | L37: =IF(I37="","",I37&" ")&H37&IF(J37="",""," "&J37)&" ("&K37&" r.)" -> Ing. Mgr. Jana Brázdilová (65 r.) | M37: =MID(H37,FIND(" ",H37)+1,LEN(H37)-FIND(" ",H37)) -> Brázdilová
A38: =B38&D38&G38 -> Banská BystricaPoslanec3 | B38: Banská Bystrica | D38: Poslanec | E38: 3 | F38: 9 | G38: 3 | H38: Matej Bučko | K38: 31 | L38: =IF(I38="","",I38&" ")&H38&IF(J38="",""," "&J38)&" ("&K38&" r.)" -> Matej Bučko (31 r.) | M38: =MID(H38,FIND(" ",H38)+1,LEN(H38)-FIND(" ",H38)) -> Bučko
A39: =B39&D39&G39 -> Banská BystricaPoslanec4 | B39: Banská Bystrica | D39: Poslanec | E39: 3 | F39: 9 | G39: 4 | H39: Maroš Čupka | I39: Dis. art. | K39: 22 | L39: =IF(I39="","",I39&" ")&H39&IF(J39="",""," "&J39)&" ("&K39&" r.)" -> Dis. art. Maroš Čupka (22 r.) | M39: =MID(H39,FIND(" ",H39)+1,LEN(H39)-FIND(" ",H39)) -> Čupka
A40: =B40&D40&G40 -> Banská BystricaPoslanec5 | B40: Banská Bystrica | D40: Poslanec | E40: 3 | F40: 9 | G40: 5 | H40: Ján Dilík | K40: 71 | L40: =IF(I40="","",I40&" ")&H40&IF(J40="",""," "&J40)&" ("&K40&" r.)" -> Ján Dilík (71 r.) | M40: =MID(H40,FIND(" ",H40)+1,LEN(H40)-FIND(" ",H40)) -> Dilík
A41: =B41&D41&G41 -> Banská BystricaPoslanec6 | B41: Banská Bystrica | D41: Poslanec | E41: 3 | F41: 9 | G41: 6 | H41: Július Ernek | I41: Mgr. | K41: 39 | L41: =IF(I41="","",I41&" ")&H41&IF(J41="",""," "&J41)&" ("&K41&" r.)" -> Mgr. Július Ernek (39 r.) | M41: =MID(H41,FIND(" ",H41)+1,LEN(H41)-FIND(" ",H41)) -> Ernek
A42: =B42&D42&G42 -> Banská BystricaPoslanec7 | B42: Banská Bystrica | D42: Poslanec | E42: 3 | F42: 9 | G42: 7 | H42: Jakub Gajdošík | I42: Mgr. | K42: 33 | L42: =IF(I42="","",I42&" ")&H42&IF(J42="",""," "&J42)&" ("&K42&" r.)" -> Mgr. Jakub Gajdošík (33 r.) | M42: =MID(H42,FIND(" ",H42)+1,LEN(H42)-FIND(" ",H42)) -> Gajdošík
A43: =B43&D43&G43 -> Banská BystricaPoslanec8 | B43: Banská Bystrica | D43: Poslanec | E43: 3 | F43: 9 | G43: 8 | H43: Beata Hirt | I43: Ing. | K43: 56 | L43: =IF(I43="","",I43&" ")&H43&IF(J43="",""," "&J43)&" ("&K43&" r.)" -> Ing. Beata Hirt (56 r.) | M43: =MID(H43,FIND(" ",H43)+1,LEN(H43)-FIND(" ",H43)) -> Hirt
A44: =B44&D44&G44 -> Banská BystricaPoslanec9 | B44: Banská Bystrica | D44: Poslanec | E44: 3 | F44: 9 | G44: 9 | H44: Peter Hunák | I44: MUDr. | K44: 56 | L44: =IF(I44="","",I44&" ")&H44&IF(J44="",""," "&J44)&" ("&K44&" r.)" -> MUDr. Peter Hunák (56 r.) | M44: =MID(H44,FIND(" ",H44)+1,LEN(H44)-FIND(" ",H44)) -> Hunák
A45: =B45&D45&G45 -> Banská BystricaPoslanec10 | B45: Banská Bystrica | D45: Poslanec | E45: 3 | F45: 9 | G45: 10 | H45: Ladislav Huntoš | K45: 41 | L45: =IF(I45="","",I45&" ")&H45&IF(J45="",""," "&J45)&" ("&K45&" r.)" -> Ladislav Huntoš (41 r.) | M45: =MID(H45,FIND(" ",H45)+1,LEN(H45)-FIND(" ",H45)) -> Huntoš
A46: =B46&D46&G46 -> Banská BystricaPoslanec11 | B46: Banská Bystrica | D46: Poslanec | E46: 3 | F46: 9 | G46: 11 | H46: Jarmila Chmelková | K46: 52 | L46: =IF(I46="","",I46&" ")&H46&IF(J46="",""," "&J46)&" ("&K46&" r.)" -> Jarmila Chmelková (52 r.) | M46: =MID(H46,FIND(" ",H46)+1,LEN(H46)-FIND(" ",H46)) -> Chmelková
A47: =B47&D47&G47 -> Banská BystricaPoslanec12 | B47: Banská Bystrica | D47: Poslanec | E47: 3 | F47: 9 | G47: 12 | H47: Jakub Iždinský | K47: 29 | L47: =IF(I47="","",I47&" ")&H47&IF(J47="",""," "&J47)&" ("&K47&" r.)" -> Jakub Iždinský (29 r.) | M47: =MID(H47,FIND(" ",H47)+1,LEN(H47)-FIND(" ",H47)) -> Iždinský
A48: =B48&D48&G48 -> Banská BystricaPoslanec13 | B48: Banská Bystrica | D48: Poslanec | E48: 3 | F48: 9 | G48: 13 | H48: Marek Kliment | K48: 37 | L48: =IF(I48="","",I48&" ")&H48&IF(J48="",""," "&J48)&" ("&K48&" r.)" -> Marek Kliment (37 r.) | M48: =MID(H48,FIND(" ",H48)+1,LEN(H48)-FIND(" ",H48)) -> Kliment
A49: =B49&D49&G49 -> Banská BystricaPoslanec14 | B49: Banská Bystrica | D49: Poslanec | E49: 3 | F49: 9 | G49: 14 | H49: Martin Klus | I49: doc. PhDr. | J49: PhD. MBA | K49: 38 | L49: =IF(I49="","",I49&" ")&H49&IF(J49="",""," "&J49)&" ("&K49&" r.)" -> doc. PhDr. Martin Klus PhD. MBA (38 r.) | M49: =MID(H49,FIND(" ",H49)+1,LEN(H49)-FIND(" ",H49)) -> Klus
A50: =B50&D50&G50 -> Banská BystricaPoslanec15 | B50: Banská Bystrica | D50: Poslanec | E50: 3 | F50: 9 | G50: 15 | H50: Marek Kotleba | I50: Bc. | K50: 35 | L50: =IF(I50="","",I50&" ")&H50&IF(J50="",""," "&J50)&" ("&K50&" r.)" -> Bc. Marek Kotleba (35 r.) | M50: =MID(H50,FIND(" ",H50)+1,LEN(H50)-FIND(" ",H50)) -> Kotleba
A51: =B51&D51&G51 -> Banská BystricaPoslanec16 | B51: Banská Bystrica | D51: Poslanec | E51: 3 | F51: 9 | G51: 16 | H51: Dáša Kupčeková | K51: 42 | L51: =IF(I51="","",I51&" ")&H51&IF(J51="",""," "&J51)&" ("&K51&" r.)" -> Dáša Kupčeková (42 r.) | M51: =MID(H51,FIND(" ",H51)+1,LEN(H51)-FIND(" ",H51)) -> Kupčeková
A52: =B52&D52&G52 -> Banská BystricaPoslanec17 | B52: Banská Bystrica | D52: Poslanec | E52: 3 | F52: 9 | G52: 17 | H52: Andrej Leitner | I52: Ing. | K52: 26 | L52: =IF(I52="","",I52&" ")&H52&IF(J52="",""," "&J52)&" ("&K52&" r.)" -> Ing. Andrej Leitner (26 r.) | M52: =MID(H52,FIND(" ",H52)+1,LEN(H52)-FIND(" ",H52)) -> Leitner
A53: =B53&D53&G53 -> Banská BystricaPoslanec18 | B53: Banská Bystrica | D53: Poslanec | E53: 3 | F53: 9 | G53: 18 | H53: Milan Lichý | I53: Ing. | K53: 57 | L53: =IF(I53="","",I53&" ")&H53&IF(J53="",""," "&J53)&" ("&K53&" r.)" -> Ing. Milan Lichý (57 r.) | M53: =MID(H53,FIND(" ",H53)+1,LEN(H53)-FIND(" ",H53)) -> Lichý
A54: =B54&D54&G54 -> Banská BystricaPoslanec19 | B54: Banská Bystrica | D54: Poslanec | E54: 3 | F54: 9 | G54: 19 | H54: Martin Majling | I54: Ing. | K54: 32 | L54: =IF(I54="","",I54&" ")&H54&IF(J54="",""," "&J54)&" ("&K54&" r.)" -> Ing. Martin Majling (32 r.) | M54: =MID(H54,FIND(" ",H54)+1,LEN(H54)-FIND(" ",H54)) -> Majling
A55: =B55&D55&G55 -> Banská BystricaPoslanec20 | B55: Banská Bystrica | D55: Poslanec | E55: 3 | F55: 9 | G55: 20 | H55: Anton Minárik | I55: PaedDr. | K55: 40 | L55: =IF(I55="","",I55&" ")&H55&IF(J55="",""," "&J55)&" ("&K55&" r.)" -> PaedDr. Anton Minárik (40 r.) | M55: =MID(H55,FIND(" ",H55)+1,LEN(H55)-FIND(" ",H55)) -> Minárik
A56: =B56&D56&G56 -> Banská BystricaPoslanec21 | B56: Banská Bystrica | D56: Poslanec | E56: 3 | F56: 9 | G56: 21 | H56: Matúš Molitóris | I56: Mgr. | K56: 32 | L56: =IF(I56="","",I56&" ")&H56&IF(J56="",""," "&J56)&" ("&K56&" r.)" -> Mgr. Matúš Molitóris (32 r.) | M56: =MID(H56,FIND(" ",H56)+1,LEN(H56)-FIND(" ",H56)) -> Molitóris
A57: =B57&D57&G57 -> Banská BystricaPoslanec22 | B57: Banská Bystrica | D57: Poslanec | E57: 3 | F57: 9 | G57: 22 | H57: Vladimír Piperek | K57: 39 | L57: =IF(I57="","",I57&" ")&H57&IF(J57="",""," "&J57)&" ("&K57&" r.)" -> Vladimír Piperek (39 r.) | M57: =MID(H57,FIND(" ",H57)+1,LEN(H57)-FIND(" ",H57)) -> Piperek
A58: =B58&D58&G58 -> Banská BystricaPoslanec23 | B58: Banská Bystrica | D58: Poslanec | E58: 3 | F58: 9 | G58: 23 | H58: Vladimír Pirošík | I58: Mgr. | K58: 42 | L58: =IF(I58="","",I58&" ")&H58&IF(J58="",""," "&J58)&" ("&K58&" r.)" -> Mgr. Vladimír Pirošík (42 r.) | M58: =MID(H58,FIND(" ",H58)+1,LEN(H58)-FIND(" ",H58)) -> Pirošík
A59: =B59&D59&G59 -> Banská BystricaPoslanec24 | B59: Banská Bystrica | D59: Poslanec | E59: 3 | F59: 9 | G59: 24 | H59: Milan Prašovský | K59: 42 | L59: =IF(I59="","",I59&" ")&H59&IF(J59="",""," "&J59)&" ("&K59&" r.)" -> Milan Prašovský (42 r.) | M59: =MID(H59,FIND(" ",H59)+1,LEN(H59)-FIND(" ",H59)) -> Prašovský
A60: =B60&D60&G60 -> Banská BystricaPoslanec25 | B60: Banská Bystrica | D60: Poslanec | E60: 3 | F60: 9 | G60: 25 | H60: Elena Púchyová | I60: Ing. | K60: 60 | L60: =IF(I60="","",I60&" ")&H60&IF(J60="",""," "&J60)&" ("&K60&" r.)" -> Ing. Elena Púchyová (60 r.) | M60: =MID(H60,FIND(" ",H60)+1,LEN(H60)-FIND(" ",H60)) -> Púchyová
A61: =B61&D61&G61 -> Banská BystricaPoslanec26 | B61: Banská Bystrica | D61: Poslanec | E61: 3 | F61: 9 | G61: 26 | H61: Andrej Refka | I61: Bc. | K61: 40 | L61: =IF(I61="","",I61&" ")&H61&IF(J61="",""," "&J61)&" ("&K61&" r.)" -> Bc. Andrej Refka (40 r.) | M61: =MID(H61,FIND(" ",H61)+1,LEN(H61)-FIND(" ",H61)) -> Refka
A62: =B62&D62&G62 -> Banská BystricaPoslanec27 | B62: Banská Bystrica | D62: Poslanec | E62: 3 | F62: 9 | G62: 27 | H62: Vladimír Rosinský | K62: 58 | L62: =IF(I62="","",I62&" ")&H62&IF(J62="",""," "&J62)&" ("&K62&" r.)" -> Vladimír Rosinský (58 r.) | M62: =MID(H62,FIND(" ",H62)+1,LEN(H62)-FIND(" ",H62)) -> Rosinský
A63: =B63&D63&G63 -> Banská BystricaPoslanec28 | B63: Banská Bystrica | D63: Poslanec | E63: 3 | F63: 9 | G63: 28 | H63: Michal Škantár | I63: Ing. | K63: 36 | L63: =IF(I63="","",I63&" ")&H63&IF(J63="",""," "&J63)&" ("&K63&" r.)" -> Ing. Michal Škantár (36 r.) | M63: =MID(H63,FIND(" ",H63)+1,LEN(H63)-FIND(" ",H63)) -> Škantár
A64: =B64&D64&G64 -> Banská BystricaPoslanec29 | B64: Banská Bystrica | D64: Poslanec | E64: 3 | F64: 9 | G64: 29 | H64: Tomáš Štrba | I64: Mgr. | J64: PhD. | K64: 35 | L64: =IF(I64="","",I64&" ")&H64&IF(J64="",""," "&J64)&" ("&K64&" r.)" -> Mgr. Tomáš Štrba PhD. (35 r.) | M64: =MID(H64,FIND(" ",H64)+1,LEN(H64)-FIND(" ",H64)) -> Štrba
A65: =B65&D65&G65 -> Banská BystricaPoslanec30 | B65: Banská Bystrica | D65: Poslanec | E65: 3 | F65: 9 | G65: 30 | H65: Róbert Trnka | I65: Ing. | K65: 50 | L65: =IF(I65="","",I65&" ")&H65&IF(J65="",""," "&J65)&" ("&K65&" r.)" -> Ing. Róbert Trnka (50 r.) | M65: =MID(H65,FIND(" ",H65)+1,LEN(H65)-FIND(" ",H65)) -> Trnka
A66: =B66&D66&G66 -> Banská BystricaPoslanec31 | B66: Banská Bystrica | D66: Poslanec | E66: 3 | F66: 9 | G66: 31 | H66: Martin Turčan | I66: Ing. | K66: 36 | L66: =IF(I66="","",I66&" ")&H66&IF(J66="",""," "&J66)&" ("&K66&" r.)" -> Ing. Martin Turčan (36 r.) | M66: =MID(H66,FIND(" ",H66)+1,LEN(H66)-FIND(" ",H66)) -> Turčan
A67: =B67&D67&G67 -> Banská BystricaPoslanec32 | B67: Banská Bystrica | D67: Poslanec | E67: 4 | F67: 2 | G67: 32 | H67: Jozef Baláž | I67: MUDr. | K67: 39 | L67: =IF(I67="","",I67&" ")&H67&IF(J67="",""," "&J67)&" ("&K67&" r.)" -> MUDr. Jozef Baláž (39 r.) | M67: =MID(H67,FIND(" ",H67)+1,LEN(H67)-FIND(" ",H67)) -> Baláž
A68: =B68&D68&G68 -> Banská BystricaPoslanec33 | B68: Banská Bystrica | D68: Poslanec | E68: 4 | F68: 2 | G68: 33 | H68: Peter Čajka | I68: PhDr. | K68: 31 | L68: =IF(I68="","",I68&" ")&H68&IF(J68="",""," "&J68)&" ("&K68&" r.)" -> PhDr. Peter Čajka (31 r.) | M68: =MID(H68,FIND(" ",H68)+1,LEN(H68)-FIND(" ",H68)) -> Čajka
A69: =B69&D69&G69 -> Banská BystricaPoslanec34 | B69: Banská Bystrica | D69: Poslanec | E69: 4 | F69: 2 | G69: 34 | H69: Abdulbesi Čako | K69: 56 | L69: =IF(I69="","",I69&" ")&H69&IF(J69="",""," "&J69)&" ("&K69&" r.)" -> Abdulbesi Čako (56 r.) | M69: =MID(H69,FIND(" ",H69)+1,LEN(H69)-FIND(" ",H69)) -> Čako
A70: =B70&D70&G70 -> Banská BystricaPoslanec35 | B70: Banská Bystrica | D70: Poslanec | E70: 4 | F70: 2 | G70: 35 | H70: Katarína Čižmárová | I70: Doc. RNDr. | J70: CSc. | K70: 62 | L70: =IF(I70="","",I70&" ")&H70&IF(J70="",""," "&J70)&" ("&K70&" r.)" -> Doc. RNDr. Katarína Čižmárová CSc. (62 r.) | M70: =MID(H70,FIND(" ",H70)+1,LEN(H70)-FIND(" ",H70)) -> Čižmárová
A71: =B71&D71&G71 -> Banská BystricaPoslanec36 | B71: Banská Bystrica | D71: Poslanec | E71: 4 | F71: 2 | G71: 36 | H71: Dušan Dobrota | K71: 62 | L71: =IF(I71="","",I71&" ")&H71&IF(J71="",""," "&J71)&" ("&K71&" r.)" -> Dušan Dobrota (62 r.) | M71: =MID(H71,FIND(" ",H71)+1,LEN(H71)-FIND(" ",H71)) -> Dobrota
A72: =B72&D72&G72 -> Banská BystricaPoslanec37 | B72: Banská Bystrica | D72: Poslanec | E72: 4 | F72: 2 | G72: 37 | H72: Janka Kmeťová | I72: JUDr. | K72: 48 | L72: =IF(I72="","",I72&" ")&H72&IF(J72="",""," "&J72)&" ("&K72&" r.)" -> JUDr. Janka Kmeťová (48 r.) | M72: =MID(H72,FIND(" ",H72)+1,LEN(H72)-FIND(" ",H72)) -> Kmeťová
A73: =B73&D73&G73 -> Banská BystricaPoslanec38 | B73: Banská Bystrica | D73: Poslanec | E73: 4 | F73: 2 | G73: 38 | H73: Marek Odaloš | K73: 30 | L73: =IF(I73="","",I73&" ")&H73&IF(J73="",""," "&J73)&" ("&K73&" r.)" -> Marek Odaloš (30 r.) | M73: =MID(H73,FIND(" ",H73)+1,LEN(H73)-FIND(" ",H73)) -> Odaloš
A74: =B74&D74&G74 -> Banská BystricaPoslanec39 | B74: Banská Bystrica | D74: Poslanec | E74: 4 | F74: 2 | G74: 39 | H74: Miroslav Potančok | K74: 44 | L74: =IF(I74="","",I74&" ")&H74&IF(J74="",""," "&J74)&" ("&K74&" r.)" -> Miroslav Potančok (44 r.) | M74: =MID(H74,FIND(" ",H74)+1,LEN(H74)-FIND(" ",H74)) -> Potančok
A75: =B75&D75&G75 -> Banská BystricaPoslanec40 | B75: Banská Bystrica | D75: Poslanec | E75: 4 | F75: 2 | G75: 40 | H75: Jozef Tomáš | I75: Ing. | K75: 58 | L75: =IF(I75="","",I75&" ")&H75&IF(J75="",""," "&J75)&" ("&K75&" r.)" -> Ing. Jozef Tomáš (58 r.) | M75: =MID(H75,FIND(" ",H75)+1,LEN(H75)-FIND(" ",H75)) -> Tomáš
A76: =B76&D76&G76 -> Banská BystricaPoslanec1 | B76: Banská Bystrica | D76: Poslanec | E76: 5 | F76: 7 | G76: 1 | H76: Matej Ďurica | K76: 27 | L76: =IF(I76="","",I76&" ")&H76&IF(J76="",""," "&J76)&" ("&K76&" r.)" -> Matej Ďurica (27 r.) | M76: =MID(H76,FIND(" ",H76)+1,LEN(H76)-FIND(" ",H76)) -> Ďurica
A77: =B77&D77&G77 -> Banská BystricaPoslanec2 | B77: Banská Bystrica | D77: Poslanec | E77: 5 | F77: 7 | G77: 2 | H77: Lucia Fabriciusová | I77: JUDr. | K77: 38 | L77: =IF(I77="","",I77&" ")&H77&IF(J77="",""," "&J77)&" ("&K77&" r.)" -> JUDr. Lucia Fabriciusová (38 r.) | M77: =MID(H77,FIND(" ",H77)+1,LEN(H77)-FIND(" ",H77)) -> Fabriciusová
A78: =B78&D78&G78 -> Banská BystricaPoslanec3 | B78: Banská Bystrica | D78: Poslanec | E78: 5 | F78: 7 | G78: 3 | H78: Marcela Gallová | K78: 47 | L78: =IF(I78="","",I78&" ")&H78&IF(J78="",""," "&J78)&" ("&K78&" r.)" -> Marcela Gallová (47 r.) | M78: =MID(H78,FIND(" ",H78)+1,LEN(H78)-FIND(" ",H78)) -> Gallová
A79: =B79&D79&G79 -> Banská BystricaPoslanec4 | B79: Banská Bystrica | D79: Poslanec | E79: 5 | F79: 7 | G79: 4 | H79: Ján Gereg | I79: JUDr. | K79: 68 | L79: =IF(I79="","",I79&" ")&H79&IF(J79="",""," "&J79)&" ("&K79&" r.)" -> JUDr. Ján Gereg (68 r.) | M79: =MID(H79,FIND(" ",H79)+1,LEN(H79)-FIND(" ",H79)) -> Gereg
A80: =B80&D80&G80 -> Banská BystricaPoslanec5 | B80: Banská Bystrica | D80: Poslanec | E80: 5 | F80: 7 | G80: 5 | H80: Peter Gogola | I80: Mgr. | K80: 50 | L80: =IF(I80="","",I80&" ")&H80&IF(J80="",""," "&J80)&" ("&K80&" r.)" -> Mgr. Peter Gogola (50 r.) | M80: =MID(H80,FIND(" ",H80)+1,LEN(H80)-FIND(" ",H80)) -> Gogola
A81: =B81&D81&G81 -> Banská BystricaPoslanec6 | B81: Banská Bystrica | D81: Poslanec | E81: 5 | F81: 7 | G81: 6 | H81: Danica Halamová | I81: Ing. | K81: 45 | L81: =IF(I81="","",I81&" ")&H81&IF(J81="",""," "&J81)&" ("&K81&" r.)" -> Ing. Danica Halamová (45 r.) | M81: =MID(H81,FIND(" ",H81)+1,LEN(H81)-FIND(" ",H81)) -> Halamová
A82: =B82&D82&G82 -> Banská BystricaPoslanec7 | B82: Banská Bystrica | D82: Poslanec | E82: 5 | F82: 7 | G82: 7 | H82: Vladimír Hiadlovský | I82: doc. Ing. | J82: PhD. | K82: 40 | L82: =IF(I82="","",I82&" ")&H82&IF(J82="",""," "&J82)&" ("&K82&" r.)" -> doc. Ing. Vladimír Hiadlovský PhD. (40 r.) | M82: =MID(H82,FIND(" ",H82)+1,LEN(H82)-FIND(" ",H82)) -> Hiadlovský
A83: =B83&D83&G83 -> Banská BystricaPoslanec8 | B83: Banská Bystrica | D83: Poslanec | E83: 5 | F83: 7 | G83: 8 | H83: Luděk Hochmuth | I83: MUDr. | K83: 65 | L83: =IF(I83="","",I83&" ")&H83&IF(J83="",""," "&J83)&" ("&K83&" r.)" -> MUDr. Luděk Hochmuth (65 r.) | M83: =MID(H83,FIND(" ",H83)+1,LEN(H83)-FIND(" ",H83)) -> Hochmuth
A84: =B84&D84&G84 -> Banská BystricaPoslanec9 | B84: Banská Bystrica | D84: Poslanec | E84: 5 | F84: 7 | G84: 9 | H84: Robert Hrnčiar | K84: 55 | L84: =IF(I84="","",I84&" ")&H84&IF(J84="",""," "&J84)&" ("&K84&" r.)" -> Robert Hrnčiar (55 r.) | M84: =MID(H84,FIND(" ",H84)+1,LEN(H84)-FIND(" ",H84)) -> Hrnčiar
A85: =B85&D85&G85 -> Banská BystricaPoslanec10 | B85: Banská Bystrica | D85: Poslanec | E85: 5 | F85: 7 | G85: 10 | H85: Klaudia Hrušková | K85: 40 | L85: =IF(I85="","",I85&" ")&H85&IF(J85="",""," "&J85)&" ("&K85&" r.)" -> Klaudia Hrušková (40 r.) | M85: =MID(H85,FIND(" ",H85)+1,LEN(H85)-FIND(" ",H85)) -> Hrušková
A86: =B86&D86&G86 -> Banská BystricaPoslanec11 | B86: Banská Bystrica | D86: Poslanec | E86: 5 | F86: 7 | G86: 11 | H86: Miroslav Ivan | I86: Ing. | K86: 52 | L86: =IF(I86="","",I86&" ")&H86&IF(J86="",""," "&J86)&" ("&K86&" r.)" -> Ing. Miroslav Ivan (52 r.) | M86: =MID(H86,FIND(" ",H86)+1,LEN(H86)-FIND(" ",H86)) -> Ivan
A87: =B87&D87&G87 -> Banská BystricaPoslanec12 | B87: Banská Bystrica | D87: Poslanec | E87: 5 | F87: 7 | G87: 12 | H87: Daniel Karas | I87: Mgr. | K87: 43 | L87: =IF(I87="","",I87&" ")&H87&IF(J87="",""," "&J87)&" ("&K87&" r.)" -> Mgr. Daniel Karas (43 r.) | M87: =MID(H87,FIND(" ",H87)+1,LEN(H87)-FIND(" ",H87)) -> Karas
A88: =B88&D88&G88 -> Banská BystricaPoslanec13 | B88: Banská Bystrica | D88: Poslanec | E88: 5 | F88: 7 | G88: 13 | H88: Hana Kasová | I88: Ing. arch. | K88: 42 | L88: =IF(I88="","",I88&" ")&H88&IF(J88="",""," "&J88)&" ("&K88&" r.)" -> Ing. arch. Hana Kasová (42 r.) | M88: =MID(H88,FIND(" ",H88)+1,LEN(H88)-FIND(" ",H88)) -> Kasová
A89: =B89&D89&G89 -> Banská BystricaPoslanec14 | B89: Banská Bystrica | D89: Poslanec | E89: 5 | F89: 7 | G89: 14 | H89: Ľubica Kleniarová | I89: Mgr. | K89: 61 | L89: =IF(I89="","",I89&" ")&H89&IF(J89="",""," "&J89)&" ("&K89&" r.)" -> Mgr. Ľubica Kleniarová (61 r.) | M89: =MID(H89,FIND(" ",H89)+1,LEN(H89)-FIND(" ",H89)) -> Kleniarová
A90: =B90&D90&G90 -> Banská BystricaPoslanec15 | B90: Banská Bystrica | D90: Poslanec | E90: 5 | F90: 7 | G90: 15 | H90: Viera Klimentová | I90: RSDr. | K90: 67 | L90: =IF(I90="","",I90&" ")&H90&IF(J90="",""," "&J90)&" ("&K90&" r.)" -> RSDr. Viera Klimentová (67 r.) | M90: =MID(H90,FIND(" ",H90)+1,LEN(H90)-FIND(" ",H90)) -> Klimentová
A91: =B91&D91&G91 -> Banská BystricaPoslanec16 | B91: Banská Bystrica | D91: Poslanec | E91: 5 | F91: 7 | G91: 16 | H91: Soňa Kopčanová | I91: Mgr. | K91: 48 | L91: =IF(I91="","",I91&" ")&H91&IF(J91="",""," "&J91)&" ("&K91&" r.)" -> Mgr. Soňa Kopčanová (48 r.) | M91: =MID(H91,FIND(" ",H91)+1,LEN(H91)-FIND(" ",H91)) -> Kopčanová
A92: =B92&D92&G92 -> Banská BystricaPoslanec17 | B92: Banská Bystrica | D92: Poslanec | E92: 5 | F92: 7 | G92: 17 | H92: Rastislav Medveď | I92: Mgr. | K92: 41 | L92: =IF(I92="","",I92&" ")&H92&IF(J92="",""," "&J92)&" ("&K92&" r.)" -> Mgr. Rastislav Medveď (41 r.) | M92: =MID(H92,FIND(" ",H92)+1,LEN(H92)-FIND(" ",H92)) -> Medveď
A93: =B93&D93&G93 -> Banská BystricaPoslanec18 | B93: Banská Bystrica | D93: Poslanec | E93: 5 | F93: 7 | G93: 18 | H93: Marek Modranský | I93: Mgr. | K93: 39 | L93: =IF(I93="","",I93&" ")&H93&IF(J93="",""," "&J93)&" ("&K93&" r.)" -> Mgr. Marek Modranský (39 r.) | M93: =MID(H93,FIND(" ",H93)+1,LEN(H93)-FIND(" ",H93)) -> Modranský
A94: =B94&D94&G94 -> Banská BystricaPoslanec19 | B94: Banská Bystrica | D94: Poslanec | E94: 5 | F94: 7 | G94: 19 | H94: Ľubomír Motyčka | K94: 68 | L94: =IF(I94="","",I94&" ")&H94&IF(J94="",""," "&J94)&" ("&K94&" r.)" -> Ľubomír Motyčka (68 r.) | M94: =MID(H94,FIND(" ",H94)+1,LEN(H94)-FIND(" ",H94)) -> Motyčka
A95: =B95&D95&G95 -> Banská BystricaPoslanec20 | B95: Banská Bystrica | D95: Poslanec | E95: 5 | F95: 7 | G95: 20 | H95: Peter Peuker | K95: 65 | L95: =IF(I95="","",I95&" ")&H95&IF(J95="",""," "&J95)&" ("&K95&" r.)" -> Peter Peuker (65 r.) | M95: =MID(H95,FIND(" ",H95)+1,LEN(H95)-FIND(" ",H95)) -> Peuker
A96: =B96&D96&G96 -> Banská BystricaPoslanec21 | B96: Banská Bystrica | D96: Poslanec | E96: 5 | F96: 7 | G96: 21 | H96: Peter Pohančaník | I96: Ing. | J96: PhD. | K96: 37 | L96: =IF(I96="","",I96&" ")&H96&IF(J96="",""," "&J96)&" ("&K96&" r.)" -> Ing. Peter Pohančaník PhD. (37 r.) | M96: =MID(H96,FIND(" ",H96)+1,LEN(H96)-FIND(" ",H96)) -> Pohančaník
A97: =B97&D97&G97 -> Banská BystricaPoslanec22 | B97: Banská Bystrica | D97: Poslanec | E97: 5 | F97: 7 | G97: 22 | H97: Vladimír Sklenka | I97: PhDr. | J97: PhD. | K97: 41 | L97: =IF(I97="","",I97&" ")&H97&IF(J97="",""," "&J97)&" ("&K97&" r.)" -> PhDr. Vladimír Sklenka PhD. (41 r.) | M97: =MID(H97,FIND(" ",H97)+1,LEN(H97)-FIND(" ",H97)) -> Sklenka
A98: =B98&D98&G98 -> Banská BystricaPoslanec23 | B98: Banská Bystrica | D98: Poslanec | E98: 5 | F98: 7 | G98: 23 | H98: Lucia Skokanová | I98: Ing. | K98: 42 | L98: =IF(I98="","",I98&" ")&H98&IF(J98="",""," "&J98)&" ("&K98&" r.)" -> Ing. Lucia Skokanová (42 r.) | M98: =MID(H98,FIND(" ",H98)+1,LEN(H98)-FIND(" ",H98)) -> Skokanová
A99: =B99&D99&G99 -> Banská BystricaPoslanec24 | B99: Banská Bystrica | D99: Poslanec | E99: 5 | F99: 7 | G99: 24 | H99: Roman Štrba | I99: Mgr. | K99: 53 | L99: =IF(I99="","",I99&" ")&H99&IF(J99="",""," "&J99)&" ("&K99&" r.)" -> Mgr. Roman Štrba (53 r.) | M99: =MID(H99,FIND(" ",H99)+1,LEN(H99)-FIND(" ",H99)) -> Štrba
A100: =B100&D100&G100 -> Banská BystricaPoslanec25 | B100: Banská Bystrica | D100: Poslanec | E100: 5 | F100: 7 | G100: 25 | H100: Svetozár Tomič | K100: 66 | L100: =IF(I100="","",I100&" ")&H100&IF(J100="",""," "&J100)&" ("&K100&" r.)" -> Svetozár Tomič (66 r.) | M100: =MID(H100,FIND(" ",H100)+1,LEN(H100)-FIND(" ",H100)) -> Tomič
...

Sheet 3 - Iné mestá a obce
A1: Mesto / Obec | B1: Orgán | C1: Meno kandidáta na lístku | D1: Počet hlasov | E1: Vyberte miesto zo zoznamu, vyberte orgán samosprávy, a uveďte meno a počet hlasov
A2: Abranovce | B2: Starosta | C2: Stanislav Volanský | D2: 1
B3: Starosta | C3: František Štofko | D3: 1
A4: Bajerovce | B4: Starosta | C4: Michal Sekerák | D4: 1
A5: Bystré | B5: Starosta | C5: Ľubomír Hreha | D5: 1
A6: Bzenov | B6: Starosta | C6: Štefan Rafajlovič | D6: 1
A7: Červenica pri Sabinove | B7: Starosta | C7: Pavol Spodník | D7: 2
A8: Čierne nad Topľou | B8: Starosta | C8: Vladislav Dvorjak | D8: 1
A9: Demjata | B9: Starosta | C9: Mária Poníková | D9: 1
A10: Čeľovce | B10: Starosta | C10: Stanislav Kožlej | D10: 1
A11: Drienica | B11: Starosta | C11: Vladimír Olejár | D11: 1
A12: Drienov | B12: Starosta | C12: Peter Tomko | D12: 1
A13: Drienovská Nová Ves | B13: Starosta | C13: Ján Brozman | D13: 2
A14: Dulova Ves | B14: Starosta | C14: Peter Semeš | D14: 3
A15: Fintice | B15: Starosta | C15: Terézia Gmitrová | D15: 2
... A19: Gregorovce | B19: Starosta | C19: Slavomíra Daráková | D19: 1
C20: Marek Golodžej | D20: 1
A21: Haniska | B21: Starosta | C21: Ladislav Šimkovič | D21: 1
A22: Hanušovce nad Topľou | B22: Primátor | C22: Štefan Straka | D22: 2
A23: Hendrichovce | B23: Starosta | C23: Martin Martaus | D23: 1
A24: Hermanovce | B24: Starosta | C24: Rudolf Šeliga | D24: 1
C25: Lukáš Grejták | D25: 1
A26: Hermanovce nad Topľou | B26: Starosta | C26: Andrea Kačkošová | D26: 1
A27: Hrabkov | B27: Starosta | C27: Jaroslav Hovančák | D27: 4
A28: Hubošovce | B28: Starosta | C28: Andrea Kazimírová | D28: 2
A29: Chmeľov | B29: Starosta | C29: Marek Lukáč | D29: 1
A30: Chmeľovec | B30: Starosta | C30: Ján Jakab | D30: 1
A31: Chmiňany | B31: Starosta | C31: Cyril Miškuf | D31: 1
A32: Chminianska Nová Ves | B32: Starosta | C32: Peter Konečný | D32: 1
A33: Jarovnice | B33: Starosta | C33: Peter Kaleja | D33: 1
C34: Kvetoslava Korineková | D34: 1
A35: Kamenica | B35: Starosta | C35: Jozef Ščecina | D35: 1
A36: Kapušany | B36: Starosta | C36: Slávka Guteková | D36: 2
A37: Kendice | B37: Starosta | C37: igor Kočiško | D37: 3
A38: Kokošovce | B38: Starosta | C38: Miroslav Skička | D38: 1
A39: Kračúnovce | B39: Starosta | C39: František Mašlej | D39: 1
A40: Kvačany | B40: Starosta | C40: Pavol Veteráni | D40: 1
A41: Lemešany | B41: Starosta | C41: Štefan Záhradník | D41: 1
A42: Lada | B42: Starosta | C42: Ján Katica | D42: 1
A43: Lipany | B43: Primátor | C43: Vladimír Jánošík | D43: 2
A44: Lipníky | B44: Starosta | C44: Vladimír Marušin | D44: 1
A45: Lipovce | B45: Starosta | C45: Ján Šatník | D45: 1
A46: Ludrová | B46: Starosta | C46: Štefan Droppa | D46: 1
A47: Ľubotice | B47: Starosta | C47: Katarína Klebanová | D47: 9
B48: Starosta | C48: Miroslav Makara | D48: 9
A49: Ľubotín | B49: Starosta | C49: Jozef Havrila | D49: 1
A50: Ľutina | B50: Starosta | C50: Igor Kašpir | D50: 2
A51: Malý Slivník | B51: Starosta | C51: Jozef Javorský | D51: 1
A52: Malý Šariš | B52: Starosta | C52: Miroslav Palenčár | D52: 3
A53: Miklušovce | B53: Starosta | C53: Danka Čuchtová | D53: 1
A54: Nová Ľubovňa | B54: Starosta | C54: Júlia Boďová | D54: 1
A55: Okrúhle | B55: Starosta | C55: Martin Jech | D55: 1
A56: Oľšov | B56: Starosta | C56: Karol Pinčák | D56: 1
A57: Pečovská Nová ves | B57: Starosta | C57: Jaroslav Dujava | D57: 4
A58: Petkovce | B58: Starosta | C58: Pavol hybala | D58: 1
A59: Petrovany | B59: Starosta | C59: Peter Hatok | D59: 5
A60: Plaveč | B60: Starosta | C60: Helena Vojteková | D60: 1
... A72: Spišské Podhradie | B72: Primátor | C72: Jozef Bača | D72: 1
B73: Primátor | C73: Michal Kapusta | D73: 1
A74: Stropkov | B74: Primátor | C74: Ondrej Brrendza | D74: 1
A75: Svinia | B75: Starosta | C75: Martin Trišč | D75: 1
A76: Kojatice | B76: Starosta | C76: Anton Aštary | D76: 1
B77: Starosta | C77: Dušan Katrenič | D77: 1
A78: Šarišské Michaľany | B78: Starosta | C78: Ján Zimovčák | D78: 2
A79: Šarišské Sokolovce | B79: Starosta | C79: Daniel Mikolaj | D79: 1
A80: Široké | B80: Starosta | C80: Stanislav Bartoš | D80: 1
B81: Starosta | C81: Jozef Ružbarský | D81: 1
A82: Teriakovce | B82: Starosta | C82: Iveta Žarnovská | D82: 2
A83: Torysa | B83: Starosta | C83: Martina Sabolová | D83: 1
B84: Starosta | C84: Jozef Stedina | D84: 1
A85: Trnkov | B85: Starosta | C85: Jiří Balarin | D85: 1
A86: Tulčík | B86: Starosta | C86: Danka Dobranská | D86: 1
A87: Údol | B87: Starosta | C87: Vladimír Kravec | D87: 1
A88: Uzovský Šalgov | B88: Starosta | C88: Jozef Merva | D88: 1
A89: Veľký Šariš | B89: Primátor | C89: Peter Máthé | D89: 11
A90: Víťaz | B90: Starosta | C90: Vladimír Bartoš | D90: 2
A91: Vranov nad Topľou | B91: Starosta | C91: Igor Šesták | D91: 1
A92: Vrbov | B92: Starosta | C92: Jozef Kovalčík | D92: 1
A93: Vyšná Šebastová | B93: Starosta | C93: Marián Beluško | D93: 4
A94: Záborské | B94: Starosta | C94: Bibiána Harčarová | D94: 4
A95: Zlatá Baňa | B95: Starosta | C95: Vladimír Pulík | D95: 1
A96: Žehňa | B96: Starosta | C96: Slavomír Lipták | D96: 1
A97: Župčany | B97: Starosta | C97: František Novotný | D97: 4

Sheet  Zoznam miest a obcí
A1: Kód kraja | B1: Názov kraja | C1: Kód územného obvodu | D1: Názov územného obvod | E1: Kód okresu | F1: Názov okresu | G1: Kód obce | H1: Názov obce | I1: Počet volených poslancov | J1: Typ volieb | K1: Počet výskytov obce | L1: Názov do zápisnice
A2: 1 | B2: Bratislavský kraj | C2: 100 | D2: Bratislava mesto | E2: 100 | F2: Bratislava | G2: 582000 | H2: Bratislava | I2: 45 | J2: Starosta a zastupiteľstvo | K2: =COUNTIF(H:H,H2) -> 1 | L2: =IF(K2>1,H2&" (okres "&F2&")",H2) -> Bratislava
A3: 1 | B3: Bratislavský kraj | C3: 101 | D3: Bratislava | E3: 101 | F3: Bratislava I | G3: 528595 | H3: Bratislava - Staré Mesto | I3: 25 | J3: Starosta a zastupiteľstvo | K3: =COUNTIF(H:H,H3) -> 1 | L3: =IF(K3>1,H3&" (okres "&F3&")",H3) -> Bratislava - Staré Mesto
A4: 1 | B4: Bratislavský kraj | C4: 101 | D4: Bratislava | E4: 102 | F4: Bratislava II | G4: 529311 | H4: Bratislava - Podunajské Biskupice | I4: 15 | J4: Starosta a zastupiteľstvo | K4: =COUNTIF(H:H,H4) -> 1 | L4: =IF(K4>1,H4&" (okres "&F4&")",H4) -> Bratislava - Podunajské Biskupice
A5: 1 | B5: Bratislavský kraj | C5: 101 | D5: Bratislava | E5: 102 | F5: Bratislava II | G5: 529320 | H5: Bratislava - Ružinov | I5: 25 | J5: Starosta a zastupiteľstvo | K5: =COUNTIF(H:H,H5) -> 1 | L5: =IF(K5>1,H5&" (okres "&F5&")",H5) -> Bratislava - Ružinov
A6: 1 | B6: Bratislavský kraj | C6: 101 | D6: Bratislava | E6: 102 | F6: Bratislava II | G6: 529338 | H6: Bratislava - Vrakuňa | I6: 15 | J6: Starosta a zastupiteľstvo | K6: =COUNTIF(H:H,H6) -> 1 | L6: =IF(K6>1,H6&" (okres "&F6&")",H6) -> Bratislava - Vrakuňa
A7: 1 | B7: Bratislavský kraj | C7: 101 | D7: Bratislava | E7: 103 | F7: Bratislava III | G7: 529346 | H7: Bratislava - Nové Mesto | I7: 25 | J7: Starosta a zastupiteľstvo | K7: =COUNTIF(H:H,H7) -> 1 | L7: =IF(K7>1,H7&" (okres "&F7&")",H7) -> Bratislava - Nové Mesto
A8: 1 | B8: Bratislavský kraj | C8: 101 | D8: Bratislava | E8: 103 | F8: Bratislava III | G8: 529354 | H8: Bratislava - Rača | I8: 15 | J8: Starosta a zastupiteľstvo | K8: =COUNTIF(H:H,H8) -> 1 | L8: =IF(K8>1,H8&" (okres "&F8&")",H8) -> Bratislava - Rača
A9: 1 | B9: Bratislavský kraj | C9: 101 | D9: Bratislava | E9: 103 | F9: Bratislava III | G9: 529362 | H9: Bratislava - Vajnory | I9: 9 | J9: Starosta a zastupiteľstvo | K9: =COUNTIF(H:H,H9) -> 1 | L9: =IF(K9>1,H9&" (okres "&F9&")",H9) -> Bratislava - Vajnory
A10: 1 | B10: Bratislavský kraj | C10: 101 | D10: Bratislava | E10: 104 | F10: Bratislava IV | G10: 529401 | H10: Bratislava - Devín | I10: 7 | J10: Starosta a zastupiteľstvo | K10: =COUNTIF(H:H,H10) -> 1 | L10: =IF(K10>1,H10&" (okres "&F10&")",H10) -> Bratislava - Devín
A11: 1 | B11: Bratislavský kraj | C11: 101 | D11: Bratislava | E11: 104 | F11: Bratislava IV | G11: 529371 | H11: Bratislava - Devínska Nová Ves | I11: 12 | J11: Starosta a zastupiteľstvo | K11: =COUNTIF(H:H,H11) -> 1 | L11: =IF(K11>1,H11&" (okres "&F11&")",H11) -> Bratislava - Devínska Nová Ves
A12: 1 | B12: Bratislavský kraj | C12: 101 | D12: Bratislava | E12: 104 | F12: Bratislava IV | G12: 529389 | H12: Bratislava - Dúbravka | I12: 25 | J12: Starosta a zastupiteľstvo | K12: =COUNTIF(H:H,H12) -> 1 | L12: =IF(K12>1,H12&" (okres "&F12&")",H12) -> Bratislava - Dúbravka
A13: 1 | B13: Bratislavský kraj | C13: 101 | D13: Bratislava | E13: 104 | F13: Bratislava IV | G13: 529397 | H13: Bratislava - Karlova Ves | I13: 25 | J13: Starosta a zastupiteľstvo | K13: =COUNTIF(H:H,H13) -> 1 | L13: =IF(K13>1,H13&" (okres "&F13&")",H13) -> Bratislava - Karlova Ves
... A2926: 8 | B2926: Košický kraj | C2926: 806 | D2926: Trebišov | E2926: 811 | F2926: Trebišov | G2926: 544043 | H2926: Zemplínsky Branč | I2926: 5 | J2926: Starosta a zastupiteľstvo | K2926: =COUNTIF(H:H,H2926) -> 1 | L2926: =IF(K2926>1,H2926&" (okres "&F2926&")",H2926) -> Zemplínsky Branč

Sheet Zoznamy a súčty
A1: Mesto | B1: Súčet | D1: Max | F1: P.č. | G1: Kandidát | H1: Súčet | J1: Max | L1: Kontrolky | N1: Premenné
A2: Banská Bystrica | B2: =SUMIF(PREŠOV!B:B,A2,PREŠOV!N:N) -> 0 | D2: {=INDEX(A:A,MATCH(MAX(B:B),B:B,0),1)} -> Prešov | F2: 1 | G2: =VLOOKUP(vMaxMesto&"Primátor"&F2,PREŠOV!A:L,12,0) -> PaedDr. Miroslav Benko MBA (44 r.) | H2: =SUMIFS(PREŠOV!N:N,PREŠOV!D:D,"Primátor",PREŠOV!B:B,vMaxMesto,PREŠOV!L:L,G2) -> 27 | J2: {=INDEX(G:G,MATCH(MAX(H:H),H:H,0),1)} -> JUDr. Pavel Hagyari (61 r.) | L2: =SUM(PREŠOV!N:N) -> 1140 | N2: =Premenna01 -> #REF!
A3: Banská Štiavnica | B3: =SUMIF(PREŠOV!B:B,A3,PREŠOV!N:N) -> 0 | F3: 2 | G3: =VLOOKUP(vMaxMesto&"Primátor"&F3,PREŠOV!A:L,12,0) -> Ing. Richard Drutarovský (47 r.) | H3: =SUMIFS(PREŠOV!N:N,PREŠOV!D:D,"Primátor",PREŠOV!B:B,vMaxMesto,PREŠOV!L:L,G3) -> 31 | N3: =Premenna02 -> #REF!
A4: Bardejov | B4: =SUMIF(PREŠOV!B:B,A4,PREŠOV!N:N) -> 1 | F4: 3 | G4: =VLOOKUP(vMaxMesto&"Primátor"&F4,PREŠOV!A:L,12,0) -> Ing. Igor Dužda (50 r.) | H4: =SUMIFS(PREŠOV!N:N,PREŠOV!D:D,"Primátor",PREŠOV!B:B,vMaxMesto,PREŠOV!L:L,G4) -> 1 | N4: =Premenna03 -> #REF!
A5: Bratislava | B5: =SUMIF(PREŠOV!B:B,A5,PREŠOV!N:N) -> 0 | F5: 4 | G5: =VLOOKUP(vMaxMesto&"Primátor"&F5,PREŠOV!A:L,12,0) -> Stanislav Grega (60 r.) | H5: =SUMIFS(PREŠOV!N:N,PREŠOV!D:D,"Primátor",PREŠOV!B:B,vMaxMesto,PREŠOV!L:L,G5) -> 6 | N5: =Premenna04 -> #REF!
A6: Bratislava-Čunovo | B6: =SUMIF(PREŠOV!B:B,A6,PREŠOV!N:N) -> 0 | F6: 5 | G6: =VLOOKUP(vMaxMesto&"Primátor"&F6,PREŠOV!A:L,12,0) -> JUDr. Pavel Hagyari (61 r.) | H6: =SUMIFS(PREŠOV!N:N,PREŠOV!D:D,"Primátor",PREŠOV!B:B,vMaxMesto,PREŠOV!L:L,G6) -> 62 | N6: =Premenna05 -> #REF!
A7: Bratislava-Devín | B7: =SUMIF(PREŠOV!B:B,A7,PREŠOV!N:N) -> 0 | F7: 6 | G7: =VLOOKUP(vMaxMesto&"Primátor"&F7,PREŠOV!A:L,12,0) -> Ing. František Oľha (48 r.) | H7: =SUMIFS(PREŠOV!N:N,PREŠOV!D:D,"Primátor",PREŠOV!B:B,vMaxMesto,PREŠOV!L:L,G7) -> 30 | N7: =Premenna06 -> #REF!
A8: Bratislava-Devínska Nová Ves | B8: =SUMIF(PREŠOV!B:B,A8,PREŠOV!N:N) -> 0 | F8: 7 | G8: =VLOOKUP(vMaxMesto&"Primátor"&F8,PREŠOV!A:L,12,0) -> Ing. Andrea Turčanová (51 r.) | H8: =SUMIFS(PREŠOV!N:N,PREŠOV!D:D,"Primátor",PREŠOV!B:B,vMaxMesto,PREŠOV!L:L,G8) -> 61 | N8: =Premenna07 -> #REF!
A9: Bratislava-Dúbravka | B9: =SUMIF(PREŠOV!B:B,A9,PREŠOV!N:N) -> 0 | F9: 8 | G9: =VLOOKUP(vMaxMesto&"Primátor"&F9,PREŠOV!A:L,12,0) -> #N/A | H9: =SUMIFS(PREŠOV!N:N,PREŠOV!D:D,"Primátor",PREŠOV!B:B,vMaxMesto,PREŠOV!L:L,G9) -> 0 | N9: =Premenna08 -> #REF!
A10: Bratislava-Jarovce | B10: =SUMIF(PREŠOV!B:B,A10,PREŠOV!N:N) -> 0 | F10: 9 | G10: =VLOOKUP(vMaxMesto&"Primátor"&F10,PREŠOV!A:L,12,0) -> #N/A | H10: =SUMIFS(PREŠOV!N:N,PREŠOV!D:D,"Primátor",PREŠOV!B:B,vMaxMesto,PREŠOV!L:L,G10) -> 0 | N10: =Premenna09 -> #REF!
A11: Bratislava-Karlova Ves | B11: =SUMIF(PREŠOV!B:B,A11,PREŠOV!N:N) -> 0 | F11: 10 | G11: =VLOOKUP(vMaxMesto&"Primátor"&F11,PREŠOV!A:L,12,0) -> #N/A | H11: =SUMIFS(PREŠOV!N:N,PREŠOV!D:D,"Primátor",PREŠOV!B:B,vMaxMesto,PREŠOV!L:L,G11) -> 0 | N11: =Premenna10 -> #REF!
A12: Bratislava-Lamač | B12: =SUMIF(PREŠOV!B:B,A12,PREŠOV!N:N) -> 0 | F12: 11 | G12: =VLOOKUP(vMaxMesto&"Primátor"&F12,PREŠOV!A:L,12,0) -> #N/A | H12: =SUMIFS(PREŠOV!N:N,PREŠOV!D:D,"Primátor",PREŠOV!B:B,vMaxMesto,PREŠOV!L:L,G12) -> 0 | N12: =Premenna11 -> #REF!
A13: Bratislava-Nové Mesto | B13: =SUMIF(PREŠOV!B:B,A13,PREŠOV!N:N) -> 0 | F13: 12 | G13: =VLOOKUP(vMaxMesto&"Primátor"&F13,PREŠOV!A:L,12,0) -> #N/A | H13: =SUMIFS(PREŠOV!N:N,PREŠOV!D:D,"Primátor",PREŠOV!B:B,vMaxMesto,PREŠOV!L:L,G13) -> 0 | N13: =Premenna12 -> #REF!
A14: Bratislava-Petržalka | B14: =SUMIF(PREŠOV!B:B,A14,PREŠOV!N:N) -> 0 | F14: 13 | G14: =VLOOKUP(vMaxMesto&"Primátor"&F14,PREŠOV!A:L,12,0) -> #N/A | H14: =SUMIFS(PREŠOV!N:N,PREŠOV!D:D,"Primátor",PREŠOV!B:B,vMaxMesto,PREŠOV!L:L,G14) -> 0 | N14: =Premenna13 -> #REF!
A15: Bratislava-Podunajské Biskupice | B15: =SUMIF(PREŠOV!B:B,A15,PREŠOV!N:N) -> 0 | F15: 14 | G15: =VLOOKUP(vMaxMesto&"Primátor"&F15,PREŠOV!A:L,12,0) -> #N/A | H15: =SUMIFS(PREŠOV!N:N,PREŠOV!D:D,"Primátor",PREŠOV!B:B,vMaxMesto,PREŠOV!L:L,G15) -> 0 | N15: =Premenna14 -> #REF!
A16: Bratislava-Rača | B16: =SUMIF(PREŠOV!B:B,A16,PREŠOV!N:N) -> 0 | N16: =Premenna15 -> #REF!
A17: Bratislava-Rusovce | B17: =SUMIF(PREŠOV!B:B,A17,PREŠOV!N:N) -> 0 | N17: =Premenna16 -> #REF!
A18: Bratislava-Ružinov | B18: =SUMIF(PREŠOV!B:B,A18,PREŠOV!N:N) -> 0 | N18: =Premenna17 -> #REF!
A19: Bratislava-Staré Mesto | B19: =SUMIF(PREŠOV!B:B,A19,PREŠOV!N:N) -> 0 | N19: =Premenna18 -> #REF!
A20: Bratislava-Vajnory | B20: =SUMIF(PREŠOV!B:B,A20,PREŠOV!N:N) -> 0 | N20: =Premenna19 -> #REF!
A21: Bratislava-Vrakuňa | B21: =SUMIF(PREŠOV!B:B,A21,PREŠOV!N:N) -> 0 | N21: =Premenna20 -> #REF!
A22: Bratislava-Záhorská Bystrica | B22: =SUMIF(PREŠOV!B:B,A22,PREŠOV!N:N) -> 0 | N22: =Premenna21 -> #REF!
A23: Brezno | B23: =SUMIF(PREŠOV!B:B,A23,PREŠOV!N:N) -> 0
A24: Bytča | B24: =SUMIF(PREŠOV!B:B,A24,PREŠOV!N:N) -> 0
A25: Dolný Kubín | B25: =SUMIF(PREŠOV!B:B,A25,PREŠOV!N:N) -> 0
A26: Dubnica nad Váhom | B26: =SUMIF(PREŠOV!B:B,A26,PREŠOV!N:N) -> 0
A27: Fiľakovo | B27: =SUMIF(PREŠOV!B:B,A27,PREŠOV!N:N) -> 0
A28: Gbely | B28: =SUMIF(PREŠOV!B:B,A28,PREŠOV!N:N) -> 0
A29: Hlohovec | B29: =SUMIF(PREŠOV!B:B,A29,PREŠOV!N:N) -> 0
A30: Holíč | B30: =SUMIF(PREŠOV!B:B,A30,PREŠOV!N:N) -> 0
A31: Humenné | B31: =SUMIF(PREŠOV!B:B,A31,PREŠOV!N:N) -> 0
A32: Kežmarok | B32: =SUMIF(PREŠOV!B:B,A32,PREŠOV!N:N) -> 0
A33: Košice | B33: =SUMIF(PREŠOV!B:B,A33,PREŠOV!N:N) -> 0
A34: Košice-Barca | B34: =SUMIF(PREŠOV!B:B,A34,PREŠOV!N:N) -> 0
... A83: Zvolen | B83: =SUMIF(PREŠOV!B:B,A83,PREŠOV!N:N) -> 0
